BEGIN:VCALENDAR
VERSION:2.0
PRODID:-//ASHRAE Oregon Chapter - ECPv6.15.18//NONSGML v1.0//EN
CALSCALE:GREGORIAN
METHOD:PUBLISH
X-ORIGINAL-URL:https://www.orashrae.org
X-WR-CALDESC:Events for ASHRAE Oregon Chapter
REFRESH-INTERVAL;VALUE=DURATION:PT1H
X-Robots-Tag:noindex
X-PUBLISHED-TTL:PT1H
BEGIN:VTIMEZONE
TZID:America/Los_Angeles
BEGIN:DAYLIGHT
TZOFFSETFROM:-0800
TZOFFSETTO:-0700
TZNAME:PDT
DTSTART:20250309T100000
END:DAYLIGHT
BEGIN:STANDARD
TZOFFSETFROM:-0700
TZOFFSETTO:-0800
TZNAME:PST
DTSTART:20251102T090000
END:STANDARD
BEGIN:DAYLIGHT
TZOFFSETFROM:-0800
TZOFFSETTO:-0700
TZNAME:PDT
DTSTART:20260308T100000
END:DAYLIGHT
BEGIN:STANDARD
TZOFFSETFROM:-0700
TZOFFSETTO:-0800
TZNAME:PST
DTSTART:20261101T090000
END:STANDARD
BEGIN:DAYLIGHT
TZOFFSETFROM:-0800
TZOFFSETTO:-0700
TZNAME:PDT
DTSTART:20270314T100000
END:DAYLIGHT
BEGIN:STANDARD
TZOFFSETFROM:-0700
TZOFFSETTO:-0800
TZNAME:PST
DTSTART:20271107T090000
END:STANDARD
END:VTIMEZONE
BEGIN:VEVENT
DTSTART;TZID=America/Los_Angeles:20260514T170000
DTEND;TZID=America/Los_Angeles:20260514T210000
DTSTAMP:20260423T095227
CREATED:20260126T180643Z
LAST-MODIFIED:20260420T201046Z
UID:3102-1778778000-1778792400@www.orashrae.org
SUMMARY:May Technical Meeting - Oregon Heritage Night
DESCRIPTION:ASHRAE Oregon Heritage Night is a family-friendly event celebrating the Oregon chapter’s legacy and impact. Held at the Oregon Zoo’s Conservation Hall\, with access to the Insect Building and Discovery Plaza\, the evening features an Oregon history display\, a Research Promotion Wine Survivor event\, and a technical presentation on how the built environment affects cognitive function and worker productivity. \n 
URL:https://www.orashrae.org/event/may-technical-meeting-past-president-night/
LOCATION:Oregon Zoo\, 4001 SW Canyon Road\, Portland\, OR\, 97221\, United States
CATEGORIES:Monthly Meetings
END:VEVENT
END:VCALENDAR