BEGIN:VCALENDAR
VERSION:2.0
PRODID:-//ASHRAE Oregon Chapter - ECPv6.15.18//NONSGML v1.0//EN
CALSCALE:GREGORIAN
METHOD:PUBLISH
X-ORIGINAL-URL:https://www.orashrae.org
X-WR-CALDESC:Events for ASHRAE Oregon Chapter
REFRESH-INTERVAL;VALUE=DURATION:PT1H
X-Robots-Tag:noindex
X-PUBLISHED-TTL:PT1H
BEGIN:VTIMEZONE
TZID:America/Los_Angeles
BEGIN:DAYLIGHT
TZOFFSETFROM:-0800
TZOFFSETTO:-0700
TZNAME:PDT
DTSTART:20250309T100000
END:DAYLIGHT
BEGIN:STANDARD
TZOFFSETFROM:-0700
TZOFFSETTO:-0800
TZNAME:PST
DTSTART:20251102T090000
END:STANDARD
BEGIN:DAYLIGHT
TZOFFSETFROM:-0800
TZOFFSETTO:-0700
TZNAME:PDT
DTSTART:20260308T100000
END:DAYLIGHT
BEGIN:STANDARD
TZOFFSETFROM:-0700
TZOFFSETTO:-0800
TZNAME:PST
DTSTART:20261101T090000
END:STANDARD
BEGIN:DAYLIGHT
TZOFFSETFROM:-0800
TZOFFSETTO:-0700
TZNAME:PDT
DTSTART:20270314T100000
END:DAYLIGHT
BEGIN:STANDARD
TZOFFSETFROM:-0700
TZOFFSETTO:-0800
TZNAME:PST
DTSTART:20271107T090000
END:STANDARD
END:VTIMEZONE
BEGIN:VEVENT
DTSTART;VALUE=DATE:20260301
DTEND;VALUE=DATE:20260302
DTSTAMP:20260423T094725
CREATED:20260316T231920Z
LAST-MODIFIED:20260316T231920Z
UID:3152-1772323200-1772409599@www.orashrae.org
SUMMARY:ASHRAE Oregon Newsletter: The Oregon Diffuser - March 2026
DESCRIPTION:Download PDF Here: \nOregon Diffuser – March 2026
URL:https://www.orashrae.org/event/ashrae-oregon-newsletter-the-oregon-diffuser-march-2026/
CATEGORIES:The Oregon Diffuser
ATTACH;FMTTYPE=image/png:https://www.orashrae.org/wp-content/uploads/Screenshot-2026-03-16-161900.png
END:VEVENT
BEGIN:VEVENT
DTSTART;TZID=America/Los_Angeles:20260319T170000
DTEND;TZID=America/Los_Angeles:20260319T200000
DTSTAMP:20260423T094725
CREATED:20260311T034021Z
LAST-MODIFIED:20260311T043212Z
UID:3112-1773939600-1773950400@www.orashrae.org
SUMMARY:March Technical Meeting - The Past\, Present\, & Future of ASHRAE
DESCRIPTION:Join Us for an evening Technical Event as we learn more about ASHRAE and Network with other folks in our industry. \nEverything You Ever Wanted to Know About the Organization That Defines the Standards of Our Industry \nFor many\, ASHRAE is sometimes seen as a faceless technical organization that publishes standards\, guidelines\, handbooks and monthly journals\, and at the local level\, hosts monthly meetings\, events\, and an occasional golf tournament. But ASHRAE is SO much more than that! ASHRAE is a vibrant community of dedicated volunteer members from around the world collaborating to develop healthier and more sustainable solutions for the built environment. Join us this month for high-paced\, interactive session as we explore the history of ASHRAE\, current initiatives such as Indoor Environmental Quality\, Decarbonization\, and DEI with a glimpse into what the future may hold – a future we hope you are a part of! Topics will include: \n\nThe structure of ASHRAE chapters and regions\nASHRAE’s Strategic Plan goals and initiatives\nASHRAE Standards/Guidelines – and how YOU can help define these guidance documents\nOpportunities to join Technical Committees\nOpportunities to build your network\, connect with industry professionals and have fun!\n\nWhat changes would you like to see within ASHRAE? \nAbout the Speaker\nDevin Abellon\, P.E. is the Director of Engineered Solutions at Pac West Sales in Portland\, Oregon. He has over 30 years of experience in the HVAC and plumbing industries with a focus on high-performance and sustainable building design and construction. He holds a Bachelor of Science degree in Mechanical Engineering from the University of California at Santa Barbara and is a registered professional engineer in California and Arizona. He has been an active member of ASHRAE at the chapter\, regional and society levels and currently serves as a Society Vice President\, Chair of Technology Council\, and Vice Chair of the Board of Directors DEI Advisory Subcommittee. He also serves as a Chapter Leadership Academy facilitator and Distinguished Lecturer. \nAgenda:\nRegistration Opens at 5:00PM\nDinner Served at 5:30PM\nPresentation Begins at 6:00PM\nNetworking & Mingling until 8PM
URL:https://www.orashrae.org/event/march-chapter-technical-meeting-the-past-present-future-of-ashrae/
LOCATION:Stormbreaker Brewing\, 832 N Beech St\, Portland\, 97227\, United States
CATEGORIES:Monthly Meetings
END:VEVENT
END:VCALENDAR