BEGIN:VCALENDAR
VERSION:2.0
PRODID:-//ASHRAE Oregon Chapter - ECPv6.15.18//NONSGML v1.0//EN
CALSCALE:GREGORIAN
METHOD:PUBLISH
X-WR-CALNAME:ASHRAE Oregon Chapter
X-ORIGINAL-URL:https://www.orashrae.org
X-WR-CALDESC:Events for ASHRAE Oregon Chapter
REFRESH-INTERVAL;VALUE=DURATION:PT1H
X-Robots-Tag:noindex
X-PUBLISHED-TTL:PT1H
BEGIN:VTIMEZONE
TZID:America/Los_Angeles
BEGIN:DAYLIGHT
TZOFFSETFROM:-0800
TZOFFSETTO:-0700
TZNAME:PDT
DTSTART:20240310T100000
END:DAYLIGHT
BEGIN:STANDARD
TZOFFSETFROM:-0700
TZOFFSETTO:-0800
TZNAME:PST
DTSTART:20241103T090000
END:STANDARD
BEGIN:DAYLIGHT
TZOFFSETFROM:-0800
TZOFFSETTO:-0700
TZNAME:PDT
DTSTART:20250309T100000
END:DAYLIGHT
BEGIN:STANDARD
TZOFFSETFROM:-0700
TZOFFSETTO:-0800
TZNAME:PST
DTSTART:20251102T090000
END:STANDARD
BEGIN:DAYLIGHT
TZOFFSETFROM:-0800
TZOFFSETTO:-0700
TZNAME:PDT
DTSTART:20260308T100000
END:DAYLIGHT
BEGIN:STANDARD
TZOFFSETFROM:-0700
TZOFFSETTO:-0800
TZNAME:PST
DTSTART:20261101T090000
END:STANDARD
END:VTIMEZONE
BEGIN:VEVENT
DTSTART;VALUE=DATE:20251001
DTEND;VALUE=DATE:20251002
DTSTAMP:20260423T172953
CREATED:20251007T153306Z
LAST-MODIFIED:20251007T153306Z
UID:3042-1759276800-1759363199@www.orashrae.org
SUMMARY:ASHRAE Oregon Newsletter: The Oregon Diffuser - October 2025
DESCRIPTION:Download PDF Here: \nOregon Diffuser October 2025
URL:https://www.orashrae.org/event/ashrae-oregon-newsletter-the-oregon-diffuser-october-2025/
CATEGORIES:The Oregon Diffuser
ATTACH;FMTTYPE=image/png:https://www.orashrae.org/wp-content/uploads/October-Newsletter.png
END:VEVENT
BEGIN:VEVENT
DTSTART;TZID=America/Los_Angeles:20251008T163000
DTEND;TZID=America/Los_Angeles:20251008T200000
DTSTAMP:20260423T172953
CREATED:20250923T180120Z
LAST-MODIFIED:20250923T180120Z
UID:2972-1759941000-1759953600@www.orashrae.org
SUMMARY:Sustainable Buildings Week - October Technical Meeting - Whole Life Carbon: Integrating Operational\, Fugitive\, and Embodied Emissions
DESCRIPTION:Presentation Description: \nThis session explores whole life carbon through a systems-thinking lens\, moving from ecosystem-level to building lifecycle phases. Attendees will learn about gaps in current lifecycle assessment (LCA) frameworks and the challenges of capturing full carbon impacts\, particularly for MEP systems. The session highlights key emission categories and strategies to integrate operational\, refrigerant\, and embodied emissions into a comprehensive whole life carbon approach. \nPresenter Bio: \nRachel is a mechanical engineer at PAE with over a decade of experience in the design and analysis of high-performance buildings and a leading voice on MEP embodied carbon and emissions. She is passionate about advancing strategies that address the often-overlooked climate impacts of building systems\, from embodied carbon in materials to refrigerant leakage in HVAC. Her expertise spans educational\, commercial\, multifamily\, and historic projects\, where she has specialized in passive design strategies\, Net-Zero Energy\, Living Buildings\, and healthy materials. \n 
URL:https://www.orashrae.org/event/sustainable-buildings-week-october-technical-meeting-whole-life-carbon-integrating-operational-fugitive-and-embodied-emissions/
LOCATION:Stormbreaker Brewing\, 832 N Beech St\, Portland\, 97227\, United States
CATEGORIES:Monthly Meetings
ATTACH;FMTTYPE=image/png:https://www.orashrae.org/wp-content/uploads/October-Technical-Meeting.png
END:VEVENT
BEGIN:VEVENT
DTSTART;TZID=America/Los_Angeles:20251009T163000
DTEND;TZID=America/Los_Angeles:20251009T180000
DTSTAMP:20260423T172953
CREATED:20251007T153709Z
LAST-MODIFIED:20251007T173355Z
UID:3046-1760027400-1760032800@www.orashrae.org
SUMMARY:ASHRAE Oregon Board of Governors Meeting
DESCRIPTION:Join the Board as we discuss upcoming events\, new topics\, and financial standing.
URL:https://www.orashrae.org/event/ashrae-oregon-board-of-governors-meeting-5/
LOCATION:PAE Living Building\, 151 SW 1st Ave\, Portland\, OR\, 97204
END:VEVENT
BEGIN:VEVENT
DTSTART;TZID=America/Los_Angeles:20251011T080000
DTEND;TZID=America/Los_Angeles:20251011T170000
DTSTAMP:20260423T172953
CREATED:20250923T181437Z
LAST-MODIFIED:20251002T004429Z
UID:2975-1760169600-1760202000@www.orashrae.org
SUMMARY:Young Engineers of ASHRAE & Student Activities Committe OSU Tailgate Event
DESCRIPTION:Join us for a tailgate at Reser Stadium as Oregon STate Football hosts Wake Forest. \nMeet your ASHRAE Oregon peers of the present and future\, as we are joined by current and prospective members of the student branch from Oregon State. \nFood and drinks will be provided\, and there is optional transportation to and from the Portland metro area.  We look forward to seeing you all there! \nGo Beavs! \nMORE INFORMATION TO FOLLOW! \nTailgate Schedule: \n8:00 AM – Transport departs from Portland \n9:30 AM – Start of Tailgate \n12:30 PM – Kick off \nTransport will depart from Corvallis approximately 30 minutes after the end of the game
URL:https://www.orashrae.org/event/young-engineers-of-ashrae-student-activities-committe-osu-tailgate-event/
CATEGORIES:YEA
ATTACH;FMTTYPE=application/pdf:https://www.orashrae.org/wp-content/uploads/yea-sac-OSU-tailgate-1.pdf
END:VEVENT
END:VCALENDAR