BEGIN:VCALENDAR
VERSION:2.0
PRODID:-//ASHRAE Oregon Chapter - ECPv6.15.18//NONSGML v1.0//EN
CALSCALE:GREGORIAN
METHOD:PUBLISH
X-ORIGINAL-URL:https://www.orashrae.org
X-WR-CALDESC:Events for ASHRAE Oregon Chapter
REFRESH-INTERVAL;VALUE=DURATION:PT1H
X-Robots-Tag:noindex
X-PUBLISHED-TTL:PT1H
BEGIN:VTIMEZONE
TZID:America/Los_Angeles
BEGIN:DAYLIGHT
TZOFFSETFROM:-0800
TZOFFSETTO:-0700
TZNAME:PDT
DTSTART:20240310T100000
END:DAYLIGHT
BEGIN:STANDARD
TZOFFSETFROM:-0700
TZOFFSETTO:-0800
TZNAME:PST
DTSTART:20241103T090000
END:STANDARD
BEGIN:DAYLIGHT
TZOFFSETFROM:-0800
TZOFFSETTO:-0700
TZNAME:PDT
DTSTART:20250309T100000
END:DAYLIGHT
BEGIN:STANDARD
TZOFFSETFROM:-0700
TZOFFSETTO:-0800
TZNAME:PST
DTSTART:20251102T090000
END:STANDARD
BEGIN:DAYLIGHT
TZOFFSETFROM:-0800
TZOFFSETTO:-0700
TZNAME:PDT
DTSTART:20260308T100000
END:DAYLIGHT
BEGIN:STANDARD
TZOFFSETFROM:-0700
TZOFFSETTO:-0800
TZNAME:PST
DTSTART:20261101T090000
END:STANDARD
END:VTIMEZONE
BEGIN:VEVENT
DTSTART;TZID=America/Los_Angeles:20250828T170000
DTEND;TZID=America/Los_Angeles:20250828T200000
DTSTAMP:20260423T204103
CREATED:20250707T150503Z
LAST-MODIFIED:20250721T192025Z
UID:2955-1756400400-1756411200@www.orashrae.org
SUMMARY:August Chapter Meeting - PE Licensure in Oregon: Gain and Sustain your Oregon PE
DESCRIPTION:PE Licensure in Oregon: Gain and Sustain your Oregon PE\nJoin the ASHRAE Oregon Chapter for an informative in-person dinner meeting where we’ll explore the path to becoming—and staying—licensed as a Professional Engineer in the state of Oregon. Whether you’re early in your career or a seasoned engineer\, this session will offer valuable guidance and updates straight from OSBEELS. \nPresented by:\nAshlee Graybeal\nCommunications Coordinator\, Oregon State Board of Examiners for Engineering & Land Surveying (OSBEELS) \n 
URL:https://www.orashrae.org/event/save-the-date-august-chapter-technical-meeting/
LOCATION:Baerlic’s Super Sceret Beer Club Event Space\, 2235 SE 11th Ave\, Portland\, OR\, 97214\, United States
CATEGORIES:Monthly Meetings
ATTACH;FMTTYPE=image/png:https://www.orashrae.org/wp-content/uploads/Screenshot-2025-07-21-121916.png
END:VEVENT
END:VCALENDAR