BEGIN:VCALENDAR
VERSION:2.0
PRODID:-//ASHRAE Oregon Chapter - ECPv6.15.18//NONSGML v1.0//EN
CALSCALE:GREGORIAN
METHOD:PUBLISH
X-ORIGINAL-URL:https://www.orashrae.org
X-WR-CALDESC:Events for ASHRAE Oregon Chapter
REFRESH-INTERVAL;VALUE=DURATION:PT1H
X-Robots-Tag:noindex
X-PUBLISHED-TTL:PT1H
BEGIN:VTIMEZONE
TZID:America/Los_Angeles
BEGIN:DAYLIGHT
TZOFFSETFROM:-0800
TZOFFSETTO:-0700
TZNAME:PDT
DTSTART:20240310T100000
END:DAYLIGHT
BEGIN:STANDARD
TZOFFSETFROM:-0700
TZOFFSETTO:-0800
TZNAME:PST
DTSTART:20241103T090000
END:STANDARD
BEGIN:DAYLIGHT
TZOFFSETFROM:-0800
TZOFFSETTO:-0700
TZNAME:PDT
DTSTART:20250309T100000
END:DAYLIGHT
BEGIN:STANDARD
TZOFFSETFROM:-0700
TZOFFSETTO:-0800
TZNAME:PST
DTSTART:20251102T090000
END:STANDARD
BEGIN:DAYLIGHT
TZOFFSETFROM:-0800
TZOFFSETTO:-0700
TZNAME:PDT
DTSTART:20260308T100000
END:DAYLIGHT
BEGIN:STANDARD
TZOFFSETFROM:-0700
TZOFFSETTO:-0800
TZNAME:PST
DTSTART:20261101T090000
END:STANDARD
END:VTIMEZONE
BEGIN:VEVENT
DTSTART;TZID=America/Los_Angeles:20250716T170000
DTEND;TZID=America/Los_Angeles:20250716T190000
DTSTAMP:20260423T220744
CREATED:20250707T150037Z
LAST-MODIFIED:20250707T150037Z
UID:2953-1752685200-1752692400@www.orashrae.org
SUMMARY:Meet the Board and Chapter Kickoff Happy Hour
DESCRIPTION:Ready to kick off the new ASHRAE year with purpose\, people\, and pints? Bring a colleague\, bring a curiosity\, bring your questions. Come meet your board and help us shape our upcoming year! \nJoin us for a fun and casual evening where you’ll get to: \n\nMEET THE 2025-2026 ASHRAE OREGON CHAPTER BOARD\n\nGet to know the volunteers driving our chapter forward — from seasoned leaders to new faces\, we’re excited to connect with you.\n\n\nHEAR WHAT’S COMING THIS YEAR\n\nSneak peek at the programming\, technical sessions\, and community impact we’re planning for the upcoming ASHRAE season.\n\n\nFIND YOUR PLACE TO PLUG IN\n\nWant to make a difference\, grow your network\, or just learn what ASHRAE is all about? There’s a place for every interest and availability. We’ll help you find a meaningful way to get involved.\n\n\n\nNO PRESSURE — JUST PEOPLE\, CONVERSATION\, AND DRINKS ON US \nHere’s to another great year for ASHRAE Oregon! \n  \nMeeting Agenda: \n5:00 PM – Welcome! Grab a drink and some light bites \n5:30 PM – Presential Address\, Board Introduction\, ASHRAE Oregon Introduction \n6:00 – 7:00 PM – Happy Hour and Mingle
URL:https://www.orashrae.org/event/meet-the-board-and-chapter-kickoff-happy-hour/
LOCATION:PAE Living Building\, 151 SW 1st Ave\, Portland\, OR\, 97204
CATEGORIES:Monthly Meetings
END:VEVENT
BEGIN:VEVENT
DTSTART;TZID=America/Los_Angeles:20250724T073000
DTEND;TZID=America/Los_Angeles:20250724T170000
DTSTAMP:20260423T220744
CREATED:20241014T193735Z
LAST-MODIFIED:20250923T201759Z
UID:2738-1753342200-1753376400@www.orashrae.org
SUMMARY:ASHRAE Annual Golf Tournament
DESCRIPTION:Thank you to our sponsors!
URL:https://www.orashrae.org/event/save-the-date-ashrae-annual-golf-tournament/
LOCATION:Stone Creek Golf Club\, 14603 S Stoneridge Drive\, Oregon City\, OR\, 97045\, United States
CATEGORIES:Golf Tournament
END:VEVENT
END:VCALENDAR