BEGIN:VCALENDAR
VERSION:2.0
PRODID:-//ASHRAE Oregon Chapter - ECPv6.15.18//NONSGML v1.0//EN
CALSCALE:GREGORIAN
METHOD:PUBLISH
X-ORIGINAL-URL:https://www.orashrae.org
X-WR-CALDESC:Events for ASHRAE Oregon Chapter
REFRESH-INTERVAL;VALUE=DURATION:PT1H
X-Robots-Tag:noindex
X-PUBLISHED-TTL:PT1H
BEGIN:VTIMEZONE
TZID:America/Los_Angeles
BEGIN:DAYLIGHT
TZOFFSETFROM:-0800
TZOFFSETTO:-0700
TZNAME:PDT
DTSTART:20240310T100000
END:DAYLIGHT
BEGIN:STANDARD
TZOFFSETFROM:-0700
TZOFFSETTO:-0800
TZNAME:PST
DTSTART:20241103T090000
END:STANDARD
BEGIN:DAYLIGHT
TZOFFSETFROM:-0800
TZOFFSETTO:-0700
TZNAME:PDT
DTSTART:20250309T100000
END:DAYLIGHT
BEGIN:STANDARD
TZOFFSETFROM:-0700
TZOFFSETTO:-0800
TZNAME:PST
DTSTART:20251102T090000
END:STANDARD
BEGIN:DAYLIGHT
TZOFFSETFROM:-0800
TZOFFSETTO:-0700
TZNAME:PDT
DTSTART:20260308T100000
END:DAYLIGHT
BEGIN:STANDARD
TZOFFSETFROM:-0700
TZOFFSETTO:-0800
TZNAME:PST
DTSTART:20261101T090000
END:STANDARD
END:VTIMEZONE
BEGIN:VEVENT
DTSTART;VALUE=DATE:20250301
DTEND;VALUE=DATE:20250302
DTSTAMP:20260424T094151
CREATED:20250310T162006Z
LAST-MODIFIED:20250310T162006Z
UID:2914-1740787200-1740873599@www.orashrae.org
SUMMARY:ASHRAE Oregon Newsletter:  The Oregon Diffuser March 2025
DESCRIPTION:Download the full PDF of the newsletter below: \nASHRAE Oregon Diffuser – March 2025
URL:https://www.orashrae.org/event/ashrae-oregon-newsletter-the-oregon-diffuser-march-2025/
CATEGORIES:The Oregon Diffuser
ATTACH;FMTTYPE=image/png:https://www.orashrae.org/wp-content/uploads/ASHRAE-Oregon-Diffuser-March-Cover-Page.png
END:VEVENT
BEGIN:VEVENT
DTSTART;TZID=America/Los_Angeles:20250312T120000
DTEND;TZID=America/Los_Angeles:20250312T130000
DTSTAMP:20260424T094151
CREATED:20241014T194735Z
LAST-MODIFIED:20250203T175430Z
UID:2751-1741780800-1741784400@www.orashrae.org
SUMMARY:ASHRAE Oregon B.O.G. Meeting
DESCRIPTION:Join us at our Board of Governor meetings!  It’s open for anyone to attend\, but it’s time we set aside to plan upcoming chapter events\, discuss meeting topics\, and review finances to ensure our chapter is operating properly. \nThis meeting is held virtually.  If you are interested in joining\, please reach out to orashrae@gmail.com and we can provide details for the virtual link!
URL:https://www.orashrae.org/event/ashrae-oregon-b-o-g-meeting-6/
CATEGORIES:BOG Meetings
END:VEVENT
BEGIN:VEVENT
DTSTART;TZID=America/Los_Angeles:20250312T163000
DTEND;TZID=America/Los_Angeles:20250312T183000
DTSTAMP:20260424T094151
CREATED:20250225T160829Z
LAST-MODIFIED:20250225T160829Z
UID:2889-1741797000-1741804200@www.orashrae.org
SUMMARY:Feeling Crafty? - Join the Women in ASHRAE & Women in ASPE for a Craft Night
DESCRIPTION:DIY Terrarium & Happy Hour\n\n\n\n  \n\n\n\nMarch 12\, 2025 \n4:30 PM \n@ PAE Living Building\, 5th Floor Deckony\n\n\n\n  \n\n\n\nCome enjoy a happy hour where you can mingle and put together your very own plant terrarium. \n  \nThis event is hosted by Women in ASHRAE and Women of ASPE and all are welcome! \n  \nWe hope to see you there! \n 
URL:https://www.orashrae.org/event/feeling-crafty-join-the-women-in-ashrae-women-in-aspe-for-a-craft-night/
LOCATION:PAE Living Building\, 151 SW 1st Ave\, Portland\, OR\, 97204
CATEGORIES:Women in ASHRAE
END:VEVENT
BEGIN:VEVENT
DTSTART;TZID=America/Los_Angeles:20250320T170000
DTEND;TZID=America/Los_Angeles:20250320T200000
DTSTAMP:20260424T094151
CREATED:20241014T192641Z
LAST-MODIFIED:20250313T153329Z
UID:2723-1742490000-1742500800@www.orashrae.org
SUMMARY:March Technical Chapter Meeting - Informed Design Integrating Architectural & Engineering Design in Sustainable Projects
DESCRIPTION:March 20\, 2025 \nLocation: Baerlic Super Secret Beer Club \nMeeting Agenda:\n5:00PM – Dinner and drinks are served – We’re featuring Ranch Pizza this month!\n5:30PM – Presentation Starts\n6:30-7:30PM – Mingle & Wrap Up \n\n\n\n\nInformed Design: Integrating Architectural and Engineering Design\n\n\n\n\n\n\n\nJoin the ASHRAE Oregon Chapter as we welcome Thuy Le\, AIA and Christian Cutul\, AIA\, as they speak to the success stories of architectural and engineering integration to produce sustainable projects. \nNetwork with fellow industry professionals and gain valuable knowledge to stay ahead in your projects. \n\n\n\n\n\n\n\nMeet the Speakers\n\n\n\n\n\n\n\nThuy Le\, AIA\, is an associate at Bora Architecture & Interiors in Portland\, OR\, with experience on a wide range of project types\, including libraries\, workplace\, affordable housing\, and K-12 education.  As an advocate for resilient architecture and evidence-based design\, she has been a driving force behind Bora’s highest-performing projects. \n  \nChristian Cutul\, AIA is an architect at Bora Architects & Interiors with 15 years of experience on a wide range of project types\, including multifamily & affordable housing\, K-12 education\, mass timber\, renovations\, institutional\, and civic projects.  He strives to balance the big picture with the finer details\, design intent with construction reality\, and the space itself with the systems that occupy it.
URL:https://www.orashrae.org/event/save-the-date-march-technical-chapter-meeting/
LOCATION:Baerlic’s Super Sceret Beer Club Event Space\, 2235 SE 11th Ave\, Portland\, OR\, 97214\, United States
CATEGORIES:Monthly Meetings
ATTACH;FMTTYPE=image/png:https://www.orashrae.org/wp-content/uploads/Screenshot-2025-03-13-082826.png
END:VEVENT
END:VCALENDAR