BEGIN:VCALENDAR
VERSION:2.0
PRODID:-//ASHRAE Oregon Chapter - ECPv6.15.18//NONSGML v1.0//EN
CALSCALE:GREGORIAN
METHOD:PUBLISH
X-WR-CALNAME:ASHRAE Oregon Chapter
X-ORIGINAL-URL:https://www.orashrae.org
X-WR-CALDESC:Events for ASHRAE Oregon Chapter
REFRESH-INTERVAL;VALUE=DURATION:PT1H
X-Robots-Tag:noindex
X-PUBLISHED-TTL:PT1H
BEGIN:VTIMEZONE
TZID:America/Los_Angeles
BEGIN:DAYLIGHT
TZOFFSETFROM:-0800
TZOFFSETTO:-0700
TZNAME:PDT
DTSTART:20230312T100000
END:DAYLIGHT
BEGIN:STANDARD
TZOFFSETFROM:-0700
TZOFFSETTO:-0800
TZNAME:PST
DTSTART:20231105T090000
END:STANDARD
BEGIN:DAYLIGHT
TZOFFSETFROM:-0800
TZOFFSETTO:-0700
TZNAME:PDT
DTSTART:20240310T100000
END:DAYLIGHT
BEGIN:STANDARD
TZOFFSETFROM:-0700
TZOFFSETTO:-0800
TZNAME:PST
DTSTART:20241103T090000
END:STANDARD
BEGIN:DAYLIGHT
TZOFFSETFROM:-0800
TZOFFSETTO:-0700
TZNAME:PDT
DTSTART:20250309T100000
END:DAYLIGHT
BEGIN:STANDARD
TZOFFSETFROM:-0700
TZOFFSETTO:-0800
TZNAME:PST
DTSTART:20251102T090000
END:STANDARD
END:VTIMEZONE
BEGIN:VEVENT
DTSTART;VALUE=DATE:20241201
DTEND;VALUE=DATE:20241202
DTSTAMP:20260424T192556
CREATED:20241204T000648Z
LAST-MODIFIED:20241204T000648Z
UID:2836-1733011200-1733097599@www.orashrae.org
SUMMARY:ASHRAE Oregon Newsletter: The Oregon Diffuser December 2024
DESCRIPTION:Download the full PDF of the newsletter below: \nASHRAE-Oregon-Diffuser-December-2024
URL:https://www.orashrae.org/event/ashrae-oregon-newsletter-the-oregon-diffuser-december-2024/
CATEGORIES:The Oregon Diffuser
ATTACH;FMTTYPE=image/png:https://www.orashrae.org/wp-content/uploads/Screenshot-2024-12-03-160608.png
END:VEVENT
BEGIN:VEVENT
DTSTART;TZID=America/Los_Angeles:20241211T164500
DTEND;TZID=America/Los_Angeles:20241211T184500
DTSTAMP:20260424T192556
CREATED:20241014T194331Z
LAST-MODIFIED:20241014T194331Z
UID:2745-1733935500-1733942700@www.orashrae.org
SUMMARY:ASHRAE Oregon B.O.G. Meeting
DESCRIPTION:Join us at our Board of Governor meetings!  It’s open for anyone to attend\, but it’s time we set aside to plan upcoming chapter events\, discuss meeting topics\, and review finances to ensure our chapter is operating properly. \nThis meeting is held both in person or virtually.  If you are interested in joining\, please reach out to orashrae@gmail.com and we can provide details for the virtual link or the in person location!
URL:https://www.orashrae.org/event/ashrae-oregon-b-o-g-meeting-3/
CATEGORIES:BOG Meetings
END:VEVENT
BEGIN:VEVENT
DTSTART;TZID=America/Los_Angeles:20241212T170000
DTEND;TZID=America/Los_Angeles:20241212T200000
DTSTAMP:20260424T192556
CREATED:20241014T192310Z
LAST-MODIFIED:20241212T000858Z
UID:2716-1734022800-1734033600@www.orashrae.org
SUMMARY:Ugly Sweater Party w/ CSI\, AIA\, & NOMA
DESCRIPTION:Time to Ring in the Holiday Season! Join Portland CSI\, ASHRAE\, AIA\, and NOMA for our annual Ugly Sweater Party to celebrate the holidays! \nCome out to celebrate the season with your ugliest sweater! Prizes in various categories will be awarded by a panel of judges from the member organizations at around 7PM\, you must be present to win. \nEvent registration incudes hosted bar\, appetizers and entry into the Ugly Sweater Contest! \nNo Cost to Attend\, but please register so we know how many people are planning to be there!
URL:https://www.orashrae.org/event/save-the-date-ugly-sweater-party-w-aia-csi-portland-chapters/
LOCATION:Blu Dot\, 1308 Northwest Everett St\, Portland\, OR\, 97209\, United States
END:VEVENT
END:VCALENDAR