BEGIN:VCALENDAR
VERSION:2.0
PRODID:-//ASHRAE Oregon Chapter - ECPv6.15.18//NONSGML v1.0//EN
CALSCALE:GREGORIAN
METHOD:PUBLISH
X-WR-CALNAME:ASHRAE Oregon Chapter
X-ORIGINAL-URL:https://www.orashrae.org
X-WR-CALDESC:Events for ASHRAE Oregon Chapter
REFRESH-INTERVAL;VALUE=DURATION:PT1H
X-Robots-Tag:noindex
X-PUBLISHED-TTL:PT1H
BEGIN:VTIMEZONE
TZID:UTC
BEGIN:STANDARD
TZOFFSETFROM:+0000
TZOFFSETTO:+0000
TZNAME:UTC
DTSTART:20140101T000000
END:STANDARD
END:VTIMEZONE
BEGIN:VEVENT
DTSTART;TZID=UTC:20151015T113000
DTEND;TZID=UTC:20151015T140000
DTSTAMP:20260425T090545
CREATED:20150729T012825Z
LAST-MODIFIED:20161111T044636Z
UID:201-1444908600-1444917600@www.orashrae.org
SUMMARY:October 2015 Chapter Meeting: Demand Control Ventilation
DESCRIPTION:Speaker: Jim Christie\, Gaylord Industries
URL:https://www.orashrae.org/event/october-lunch-meeting/
LOCATION:Andina\,  NW Glisan St.\, Portland\, 97209
CATEGORIES:Meeting Notes
END:VEVENT
BEGIN:VEVENT
DTSTART;TZID=UTC:20150917T113000
DTEND;TZID=UTC:20150917T150000
DTSTAMP:20260425T090545
CREATED:20150729T011849Z
LAST-MODIFIED:20161111T045828Z
UID:196-1442489400-1442502000@www.orashrae.org
SUMMARY:September 2015 Chapter Meeting: Specifications 101
DESCRIPTION:Specs 101: Basic Concepts & Typical Conflicts for the Uninitiated\n\n\nPresented by The Construction Specification Institute\, Portland Chapter \nThis course will cover some of the basic principles of specification organization\, language\, procedures\, general requirements and roles and responsibilities.  This course is appropriate for any member of the AEC industry (Architect\, Engineer\, Contractor\, Product Representative\, Owner\, etc.) who would like a better understanding of specifications and their role in the project delivery process as well as basic procedures to avoid conflicts. You will receive 1 LU of AIA continuing education.\nBasic Learning Objectives: \n\nUnderstand the anatomy of a specificiations\n Understand the role of the General Contions\, Supplementary Conditions and Basic Requirements and how they affect individual specification sections\nUnderstand some of the basic principles and procedures of specification writing and language\nUnderstand some of the most common areas of conflict in specifications and how to avoid them
URL:https://www.orashrae.org/event/september-lunch-meeting/
LOCATION:Bridgeport Brew Pub\, 1313 NW Marshall St\, Portland\, OR\, 97209\, United States
CATEGORIES:Meeting Notes
END:VEVENT
BEGIN:VEVENT
DTSTART;TZID=UTC:20150716T063000
DTEND;TZID=UTC:20150716T170000
DTSTAMP:20260425T090545
CREATED:20150602T061936Z
LAST-MODIFIED:20161111T045940Z
UID:134-1437028200-1437066000@www.orashrae.org
SUMMARY:Annual Golf Tournament 2015
DESCRIPTION:
URL:https://www.orashrae.org/event/ashrae-oregon-golf-tournament/
LOCATION:Stone Creek Golf Course\, 14603 S Stoneridge Dr.\, Oregon City\, OR\, 97045\, United States
CATEGORIES:Golf Tournament
ATTACH;FMTTYPE=image/jpeg:https://www.orashrae.org/wp-content/uploads/471891_394927077226885_812527441_o.jpg
END:VEVENT
END:VCALENDAR