BEGIN:VCALENDAR
VERSION:2.0
PRODID:-//ASHRAE Oregon Chapter - ECPv6.15.18//NONSGML v1.0//EN
CALSCALE:GREGORIAN
METHOD:PUBLISH
X-WR-CALNAME:ASHRAE Oregon Chapter
X-ORIGINAL-URL:https://www.orashrae.org
X-WR-CALDESC:Events for ASHRAE Oregon Chapter
REFRESH-INTERVAL;VALUE=DURATION:PT1H
X-Robots-Tag:noindex
X-PUBLISHED-TTL:PT1H
BEGIN:VTIMEZONE
TZID:America/Los_Angeles
BEGIN:DAYLIGHT
TZOFFSETFROM:-0800
TZOFFSETTO:-0700
TZNAME:PDT
DTSTART:20250309T100000
END:DAYLIGHT
BEGIN:STANDARD
TZOFFSETFROM:-0700
TZOFFSETTO:-0800
TZNAME:PST
DTSTART:20251102T090000
END:STANDARD
BEGIN:DAYLIGHT
TZOFFSETFROM:-0800
TZOFFSETTO:-0700
TZNAME:PDT
DTSTART:20260308T100000
END:DAYLIGHT
BEGIN:STANDARD
TZOFFSETFROM:-0700
TZOFFSETTO:-0800
TZNAME:PST
DTSTART:20261101T090000
END:STANDARD
BEGIN:DAYLIGHT
TZOFFSETFROM:-0800
TZOFFSETTO:-0700
TZNAME:PDT
DTSTART:20270314T100000
END:DAYLIGHT
BEGIN:STANDARD
TZOFFSETFROM:-0700
TZOFFSETTO:-0800
TZNAME:PST
DTSTART:20271107T090000
END:STANDARD
END:VTIMEZONE
BEGIN:VEVENT
DTSTART;TZID=America/Los_Angeles:20260319T170000
DTEND;TZID=America/Los_Angeles:20260319T200000
DTSTAMP:20260423T142147
CREATED:20260311T034021Z
LAST-MODIFIED:20260311T043212Z
UID:3112-1773939600-1773950400@www.orashrae.org
SUMMARY:March Technical Meeting - The Past\, Present\, & Future of ASHRAE
DESCRIPTION:Join Us for an evening Technical Event as we learn more about ASHRAE and Network with other folks in our industry. \nEverything You Ever Wanted to Know About the Organization That Defines the Standards of Our Industry \nFor many\, ASHRAE is sometimes seen as a faceless technical organization that publishes standards\, guidelines\, handbooks and monthly journals\, and at the local level\, hosts monthly meetings\, events\, and an occasional golf tournament. But ASHRAE is SO much more than that! ASHRAE is a vibrant community of dedicated volunteer members from around the world collaborating to develop healthier and more sustainable solutions for the built environment. Join us this month for high-paced\, interactive session as we explore the history of ASHRAE\, current initiatives such as Indoor Environmental Quality\, Decarbonization\, and DEI with a glimpse into what the future may hold – a future we hope you are a part of! Topics will include: \n\nThe structure of ASHRAE chapters and regions\nASHRAE’s Strategic Plan goals and initiatives\nASHRAE Standards/Guidelines – and how YOU can help define these guidance documents\nOpportunities to join Technical Committees\nOpportunities to build your network\, connect with industry professionals and have fun!\n\nWhat changes would you like to see within ASHRAE? \nAbout the Speaker\nDevin Abellon\, P.E. is the Director of Engineered Solutions at Pac West Sales in Portland\, Oregon. He has over 30 years of experience in the HVAC and plumbing industries with a focus on high-performance and sustainable building design and construction. He holds a Bachelor of Science degree in Mechanical Engineering from the University of California at Santa Barbara and is a registered professional engineer in California and Arizona. He has been an active member of ASHRAE at the chapter\, regional and society levels and currently serves as a Society Vice President\, Chair of Technology Council\, and Vice Chair of the Board of Directors DEI Advisory Subcommittee. He also serves as a Chapter Leadership Academy facilitator and Distinguished Lecturer. \nAgenda:\nRegistration Opens at 5:00PM\nDinner Served at 5:30PM\nPresentation Begins at 6:00PM\nNetworking & Mingling until 8PM
URL:https://www.orashrae.org/event/march-chapter-technical-meeting-the-past-present-future-of-ashrae/
LOCATION:Stormbreaker Brewing\, 832 N Beech St\, Portland\, 97227\, United States
CATEGORIES:Monthly Meetings
END:VEVENT
BEGIN:VEVENT
DTSTART;TZID=America/Los_Angeles:20260423T170000
DTEND;TZID=America/Los_Angeles:20260423T200000
DTSTAMP:20260423T142147
CREATED:20260120T180904Z
LAST-MODIFIED:20260420T200924Z
UID:3093-1776963600-1776974400@www.orashrae.org
SUMMARY:April Technical Meeting - Applied Psychrometrics
DESCRIPTION:This presentation will include the following elements; (a) a review of the Psychrometric processes\, (b) defining state points of saturated air and how this creates the basis of the Psychrometric Chart\, (c) the application of mixed air streams\, (d) defining sensible heat ratio and applying this to the Psychrometric Chart\, and (e) illustrating real world examples of HVAC systems to the Psychrometric Chart. The examples illustrated will include a common heating and ventilation unit with humidification\, a 100% outside air unit used in process cooling applications where supply air temperature and absolute humidity are critical\, a common VAV air handling unit with mixed return/outside air which must supply cooled air to satisfy a specific space Sensible Heat Ratio\, and a more complex Dual Duct system where final supply air out of a diffuser can be calculated/illustrated through psychrometric processes (this example illustrates problem solving and integrates heat transfer equations of fluids). \nLearning Outcomes \n\nUnderstanding the fundamentals of the Psychrometric Chart\nApplying the Psychrometric Chart to Sensible and Latent Energy Change\nUsing real world air handling systems\, illustrate how Psychrometric Processes can be applied\n\nPresenter: \nDouglas F. Zentz\, Emeritus Professor from the HVACR Programs within the College of Engineering Technology at Ferris State University and past HVAC Program Coordinator. Doug received his Bachelor degree in Mechanical Engineering Technology from Purdue University in 1980 and his Master degree in Career and Technical Education from Ferris State University in 2007. He is a past President of West Michigan ASHRAE\, a past RVC of Student Activities for Region V\, past Chair for Society Student Activities within ASHRAE\, past Regional Members Council Representative for Region V\, and past Director and Regional Chair for Region V of ASHRAE.  Doug teaches ASHRAE Level I and Level II Essentials face to face & online for ASHRAE. He was a DL (Distinguished Lecturer) for ASHRAE since 2012 and has presented at over 100 ASHRAE chapter visits around the world. Doug has also received the Distinguished Chapter Service Award and Distinguished Service Award from ASHRAE. \nIn the field of HVACR\, his background includes professional engineering sales for the Trane Company\, manager of engineering-design-build for W.J. O’Neil Company in Detroit\, vice-president of engineering for EPPA-Strand Custom Air Handling in Detroit\, and co-owner of a consulting firm in the Metro Detroit area. This experience started in 1980 and continued until his transformation into teaching at Ferris State University in 2003. \nIn the area of teaching\, he has taught junior and senior level HVAC Design (primary and secondary systems)\, Primary Equipment Selection\, Commercial Building Heat Gain/ Heat and the senior Capstone Experience. His teaching experience includes development of new curriculum (both in the traditional classroom and fully on-line) and teaching fully on-line courses for 20 years. He has mentored nine (9) different student groups which have received either a First\, Second\, or Third place recognition from ASHRAE in the Student Design Competition. He served on many educational committees and was a member of Fluke Instrument’s Advisory Board on IAQ. \nIn the area of professional speaking\, he has been the speaker at well over 100 events since 2005. Organizations which have invited him to speak include: 1) Mechanical Contractors of America\, 2) Air Conditioning Contractors of America\, 3) ASHRAE 4) ARI (teachers workshop)\, 5) Lily West Conference (educational workshop)\, 6) USGBC (West Michigan)\, 7) Ferris State University (Energy Conferences)\, 8) Efficiency United (educational arm of 16 Michigan Utilities)\, 9) AIA (American Institute of Architects) West Michigan\, 10) RSES (Refrigeration Service Engineering Society)\, 11) the UA (United Association of Pipe Fitters)\, and the Rotary Club of America. \nAgenda:  \n5:00PM – Registration Opens \n5:30PM – Dinner Served \n6:00PM – Presentation Starts \n7:00-8:00PM – Networking and Wrap Up
URL:https://www.orashrae.org/event/april-chapter-meeting-applied-psychrometrics/
LOCATION:Stormbreaker Brewing\, 832 N Beech St\, Portland\, 97227\, United States
CATEGORIES:Monthly Meetings
END:VEVENT
BEGIN:VEVENT
DTSTART;TZID=America/Los_Angeles:20260514T170000
DTEND;TZID=America/Los_Angeles:20260514T210000
DTSTAMP:20260423T142147
CREATED:20260126T180643Z
LAST-MODIFIED:20260420T201046Z
UID:3102-1778778000-1778792400@www.orashrae.org
SUMMARY:May Technical Meeting - Oregon Heritage Night
DESCRIPTION:ASHRAE Oregon Heritage Night is a family-friendly event celebrating the Oregon chapter’s legacy and impact. Held at the Oregon Zoo’s Conservation Hall\, with access to the Insect Building and Discovery Plaza\, the evening features an Oregon history display\, a Research Promotion Wine Survivor event\, and a technical presentation on how the built environment affects cognitive function and worker productivity. \n 
URL:https://www.orashrae.org/event/may-technical-meeting-past-president-night/
LOCATION:Oregon Zoo\, 4001 SW Canyon Road\, Portland\, OR\, 97221\, United States
CATEGORIES:Monthly Meetings
END:VEVENT
BEGIN:VEVENT
DTSTART;TZID=America/Los_Angeles:20260603T110000
DTEND;TZID=America/Los_Angeles:20260603T130000
DTSTAMP:20260423T142147
CREATED:20260120T180234Z
LAST-MODIFIED:20260311T043131Z
UID:3091-1780484400-1780491600@www.orashrae.org
SUMMARY:ASHRAE x SMACNA Joint Event - Commissioning Panel Discussion & SMACNA Facility Tour
DESCRIPTION:TBD – More Information to Come
URL:https://www.orashrae.org/event/ashrae-x-smacna-joint-event-commissioning-panel-discussion-smacna-facility-tour/
CATEGORIES:Monthly Meetings
END:VEVENT
BEGIN:VEVENT
DTSTART;TZID=America/Los_Angeles:20260730T080000
DTEND;TZID=America/Los_Angeles:20260730T170000
DTSTAMP:20260423T142147
CREATED:20260311T034317Z
LAST-MODIFIED:20260311T043323Z
UID:3116-1785398400-1785430800@www.orashrae.org
SUMMARY:Annual Golf Tournament - Save the Date
DESCRIPTION:This year’s tournament will be held at Stone Creek Golf Course in Oregon City. \nTee off will be set of 9AM. \nMore Details to Coming Soon
URL:https://www.orashrae.org/event/ashrae-oregon-annual-golf-tournament-save-the-date/
LOCATION:Stone Creek Golf Club\, 14603 S Stoneridge Drive\, Oregon City\, OR\, 97045\, United States
CATEGORIES:Golf Tournament
END:VEVENT
BEGIN:VEVENT
DTSTART;TZID=America/Los_Angeles:20261009T080000
DTEND;TZID=America/Los_Angeles:20261009T170000
DTSTAMP:20260423T142147
CREATED:20260311T034414Z
LAST-MODIFIED:20260311T043309Z
UID:3118-1791532800-1791565200@www.orashrae.org
SUMMARY:Annual Clay Shooting Competition - Save the Date
DESCRIPTION:This year’s Clay Shooting Competition will be held at Mid-Valley Clays & Shooting School in Gervais. \nMore Details to Come
URL:https://www.orashrae.org/event/ashrae-oregon-clay-shooting-competition-save-the-date/
CATEGORIES:Clay Shootout
END:VEVENT
END:VCALENDAR