BEGIN:VCALENDAR
VERSION:2.0
PRODID:-//ASHRAE Oregon Chapter - ECPv6.15.18//NONSGML v1.0//EN
CALSCALE:GREGORIAN
METHOD:PUBLISH
X-WR-CALNAME:ASHRAE Oregon Chapter
X-ORIGINAL-URL:https://www.orashrae.org
X-WR-CALDESC:Events for ASHRAE Oregon Chapter
REFRESH-INTERVAL;VALUE=DURATION:PT1H
X-Robots-Tag:noindex
X-PUBLISHED-TTL:PT1H
BEGIN:VTIMEZONE
TZID:America/Los_Angeles
BEGIN:DAYLIGHT
TZOFFSETFROM:-0800
TZOFFSETTO:-0700
TZNAME:PDT
DTSTART:20240310T100000
END:DAYLIGHT
BEGIN:STANDARD
TZOFFSETFROM:-0700
TZOFFSETTO:-0800
TZNAME:PST
DTSTART:20241103T090000
END:STANDARD
BEGIN:DAYLIGHT
TZOFFSETFROM:-0800
TZOFFSETTO:-0700
TZNAME:PDT
DTSTART:20250309T100000
END:DAYLIGHT
BEGIN:STANDARD
TZOFFSETFROM:-0700
TZOFFSETTO:-0800
TZNAME:PST
DTSTART:20251102T090000
END:STANDARD
BEGIN:DAYLIGHT
TZOFFSETFROM:-0800
TZOFFSETTO:-0700
TZNAME:PDT
DTSTART:20260308T100000
END:DAYLIGHT
BEGIN:STANDARD
TZOFFSETFROM:-0700
TZOFFSETTO:-0800
TZNAME:PST
DTSTART:20261101T090000
END:STANDARD
BEGIN:DAYLIGHT
TZOFFSETFROM:-0800
TZOFFSETTO:-0700
TZNAME:PDT
DTSTART:20270314T100000
END:DAYLIGHT
BEGIN:STANDARD
TZOFFSETFROM:-0700
TZOFFSETTO:-0800
TZNAME:PST
DTSTART:20271107T090000
END:STANDARD
END:VTIMEZONE
BEGIN:VEVENT
DTSTART;VALUE=DATE:20260201
DTEND;VALUE=DATE:20260202
DTSTAMP:20260423T155747
CREATED:20260216T223633Z
LAST-MODIFIED:20260216T223633Z
UID:3107-1769904000-1769990399@www.orashrae.org
SUMMARY:ASHRAE Oregon Newsletter: The Oregon Diffuser - February 2026
DESCRIPTION:Download PDF Here: \nOregon Diffuser February 2026
URL:https://www.orashrae.org/event/ashrae-oregon-newsletter-the-oregon-diffuser-february-2026/
CATEGORIES:The Oregon Diffuser
ATTACH;FMTTYPE=image/png:https://www.orashrae.org/wp-content/uploads/The-Oregon-Diffuser-Cover-Page.png
END:VEVENT
BEGIN:VEVENT
DTSTART;TZID=America/Los_Angeles:20260122T170000
DTEND;TZID=America/Los_Angeles:20260122T210000
DTSTAMP:20260423T155747
CREATED:20250923T191415Z
LAST-MODIFIED:20260120T170046Z
UID:2992-1769101200-1769115600@www.orashrae.org
SUMMARY:ASPE x ASHRAE Oregon Technical Meeting - Domestic Hot Water Heat Pumps
DESCRIPTION:Join us as for a joint event with our ASPE Freinds to learn about Heat Pumps – topic includes: \n1. Plumbing Design of CHPWH Systems \n2. Sizing for storage and real world usage patterns \n3. High Temperature Boiler Replacement in Space Heating 4. Challenges & Solutions of Retrofit \n5. Tax Credits and Funding Strategies for High Efficiency Water Heating \n6. Practical Active Heat Recovery with Examples Meeting \n  \nAgenda:  \n5:00PM – Registration Opens \n5:30 PM – Dinner and drinks are served \n6:00 PM – Presentation Starts \n7:00 – 9:00 PM – Mingle and Wrap up
URL:https://www.orashrae.org/event/ashrae-oregon-technical-meeting/
LOCATION:Baerlic’s Super Sceret Beer Club Event Space\, 2235 SE 11th Ave\, Portland\, OR\, 97214\, United States
CATEGORIES:Education & CEUs,Monthly Meetings
END:VEVENT
BEGIN:VEVENT
DTSTART;TZID=America/Los_Angeles:20260114T163000
DTEND;TZID=America/Los_Angeles:20260114T180000
DTSTAMP:20260423T155747
CREATED:20250923T191324Z
LAST-MODIFIED:20250923T191324Z
UID:2990-1768408200-1768413600@www.orashrae.org
SUMMARY:ASHRAE Oregon Board of Governors Meeting
DESCRIPTION:
URL:https://www.orashrae.org/event/ashrae-oregon-board-of-governors-meeting-3/
LOCATION:TBD
CATEGORIES:BOG Meetings
END:VEVENT
BEGIN:VEVENT
DTSTART;VALUE=DATE:20260101
DTEND;VALUE=DATE:20260102
DTSTAMP:20260423T155747
CREATED:20260120T175432Z
LAST-MODIFIED:20260120T175527Z
UID:3088-1767225600-1767311999@www.orashrae.org
SUMMARY:ASHRAE Oregon Newsletter: The Oregon Diffuser - January 2026
DESCRIPTION:Download PDF Here: \nThe Oregon Diffuser – January 2026
URL:https://www.orashrae.org/event/ashrae-oregon-newsletter-the-oregon-diffuser-january-2026/
CATEGORIES:The Oregon Diffuser
END:VEVENT
BEGIN:VEVENT
DTSTART;TZID=America/Los_Angeles:20251218T113000
DTEND;TZID=America/Los_Angeles:20251218T153000
DTSTAMP:20260423T155747
CREATED:20251212T205052Z
LAST-MODIFIED:20251212T205057Z
UID:3065-1766057400-1766071800@www.orashrae.org
SUMMARY:December Technical Meeting - CFD Workshop - Harnessing Airflow Modeling: Practical Applications of CFD in HVAC and Natural Ventilation Design
DESCRIPTION:This workshop shows how Computational Fluid Dynamics (CFD)\, or airflow modeling\, is used to solve HVAC and natural ventilation design challenges. By enhancing traditional HVAC methods\, CFD enables detailed analysis of airflow and air quality. With advances in computing\, CFD is now more practical and affordable. Attendees will learn CFD principles and review recent HVAC and natural ventilation project applications. \nAgenda:\n11:30 Registration/Lunch\n12-1 Presentation: CFD Concept/Theory & Applications\n1:15-2:15 CFD DEMO on Fluent\n2:30-3:30 Q&A/specific projects \nAla Cart Pricing Available
URL:https://www.orashrae.org/event/december-technical-meeting-cfd-workshop-harnessing-airflow-modeling-practical-applications-of-cfd-in-hvac-and-natural-ventilation-design/
LOCATION:Embassy Suites by Hilton Portland – Downtown\, 319 SW Pine St\, Portland\, 97204\, United States
CATEGORIES:Monthly Meetings
END:VEVENT
BEGIN:VEVENT
DTSTART;TZID=America/Los_Angeles:20251210T163000
DTEND;TZID=America/Los_Angeles:20251210T180000
DTSTAMP:20260423T155747
CREATED:20250923T191247Z
LAST-MODIFIED:20250923T191247Z
UID:2988-1765384200-1765389600@www.orashrae.org
SUMMARY:ASHRAE Oregon Board of Governors Meeting
DESCRIPTION:
URL:https://www.orashrae.org/event/ashrae-oregon-board-of-governors-meeting-2/
LOCATION:TBD
CATEGORIES:BOG Meetings
END:VEVENT
BEGIN:VEVENT
DTSTART;TZID=America/Los_Angeles:20251204T160000
DTEND;TZID=America/Los_Angeles:20251204T190000
DTSTAMP:20260423T155747
CREATED:20251028T180128Z
LAST-MODIFIED:20251028T180128Z
UID:3054-1764864000-1764874800@www.orashrae.org
SUMMARY:December Technical Tour - TimberLab Fabrication Facility & Happy Hour
DESCRIPTION:Get an inside look at how mass timber innovation\, prefabrication\, and digital construction are reshaping the built environment. The tour will begin with an overview of Timberlab’s services and capabilities\, followed by a guided walkthrough of their state-of-the-art production floor. \nAfter the tour\, continue the conversation at Breakside Brewery – DEKUM for a happy hour. \n📍Timberlab Fabrication Facility – 1601 NE Columbia Blvd\, Portland\, OR 97211\n🗓 Thursday\, December 4\, 2025\n⏰ 4:00 PM (tour begins promptly at 4:30)\n👥 Limited to 35 attendees \nHappy Hour: 820 NE Dekum St\, Portland\, OR 97211
URL:https://www.orashrae.org/event/december-technical-tour-timberlab-fabrication-facility-happy-hour/
LOCATION:TimberLab Fabrication Facility\, 1601 NE Columbia Blvd\, Portland\, OR\, 97211\, United States
ATTACH;FMTTYPE=image/png:https://www.orashrae.org/wp-content/uploads/ASHRAE-Oregon-TimberLab-Tour-e1761674446690.png
END:VEVENT
BEGIN:VEVENT
DTSTART;VALUE=DATE:20251204
DTEND;VALUE=DATE:20251205
DTSTAMP:20260423T155747
CREATED:20250923T191158Z
LAST-MODIFIED:20250923T191158Z
UID:2986-1764806400-1764892799@www.orashrae.org
SUMMARY:ASHRAE Oregon Chapter Meeting
DESCRIPTION:CFD Workshop.
URL:https://www.orashrae.org/event/ashrae-oregon-chapter-meeting-2/
LOCATION:TBD
CATEGORIES:Monthly Meetings
END:VEVENT
BEGIN:VEVENT
DTSTART;VALUE=DATE:20251201
DTEND;VALUE=DATE:20251202
DTSTAMP:20260423T155747
CREATED:20251216T065358Z
LAST-MODIFIED:20251216T065358Z
UID:3072-1764547200-1764633599@www.orashrae.org
SUMMARY:ASHRAE Oregon Newsletter: The Oregon Diffuser - December 2025
DESCRIPTION:Download PDF Here: \nOregon Diffuser December 2025
URL:https://www.orashrae.org/event/ashrae-oregon-newsletter-the-oregon-diffuser-december-2025/
CATEGORIES:The Oregon Diffuser
ATTACH;FMTTYPE=image/png:https://www.orashrae.org/wp-content/uploads/The-Oregon-Diffuser-December-2025-over.png
END:VEVENT
BEGIN:VEVENT
DTSTART;TZID=America/Los_Angeles:20251120T163000
DTEND;TZID=America/Los_Angeles:20251120T200000
DTSTAMP:20260423T155747
CREATED:20251028T174449Z
LAST-MODIFIED:20251028T174957Z
UID:3049-1763656200-1763668800@www.orashrae.org
SUMMARY:November Technical Meeting - Breaking Down the Sequence of Operation: A Collaborative Controls Workshop
DESCRIPTION:This interactive session explores example Sequences of Operations for different systems to deepen understanding and improve clarity in controls documentation. Working in small groups\, participants will highlight questions\, inconsistencies\, or opportunities for refinement. A full-group discussion will follow to align on standards\, expectations\, and lessons learned for future projects. \nMeeting Agenda:\n4:30PM – Registration Opens\n5:30 PM – Dinner and drinks are served\n6:00 PM – Presentation Starts\n7:00 – 8:00 PM – Mingle and Wrap up
URL:https://www.orashrae.org/event/november-technical-meeting-breaking-down-the-sequence-of-operation-a-collaborative-controls-workshop/
LOCATION:Stormbreaker Brewing\, 832 N Beech St\, Portland\, 97227\, United States
CATEGORIES:Monthly Meetings
ATTACH;FMTTYPE=image/png:https://www.orashrae.org/wp-content/uploads/November-Technical-Meeting-e1761673642387.png
END:VEVENT
BEGIN:VEVENT
DTSTART;TZID=America/Los_Angeles:20251113T113000
DTEND;TZID=America/Los_Angeles:20251113T130000
DTSTAMP:20260423T155747
CREATED:20250923T191050Z
LAST-MODIFIED:20250923T191050Z
UID:2984-1763033400-1763038800@www.orashrae.org
SUMMARY:ASHRAE Cascades Section Technical Meeting: “Radiant Heating and Cooling System Design\,” presented by Devin Abellon\, PacWest Sales.
DESCRIPTION:
URL:https://www.orashrae.org/event/ashrae-cascades-section-technical-meeting-radiant-heating-and-cooling-system-design-presented-by-devin-abellon-pacwest-sales/
LOCATION:Waypoint Hotel\, 1415 NE 3rd St\, Bebd\, 97701\, United States
CATEGORIES:Education & CEUs
END:VEVENT
BEGIN:VEVENT
DTSTART;TZID=America/Los_Angeles:20251112T163000
DTEND;TZID=America/Los_Angeles:20251112T180000
DTSTAMP:20260423T155747
CREATED:20250923T190932Z
LAST-MODIFIED:20250923T190932Z
UID:2982-1762965000-1762970400@www.orashrae.org
SUMMARY:ASHRAE Oregon Board of Governors Meeting
DESCRIPTION:
URL:https://www.orashrae.org/event/ashrae-oregon-board-of-governors-meeting/
LOCATION:TBD
CATEGORIES:BOG Meetings
END:VEVENT
BEGIN:VEVENT
DTSTART;VALUE=DATE:20251101
DTEND;VALUE=DATE:20251102
DTSTAMP:20260423T155747
CREATED:20251103T181303Z
LAST-MODIFIED:20251103T181303Z
UID:3060-1761955200-1762041599@www.orashrae.org
SUMMARY:ASHRAE Oregon Newsletter: The Oregon Diffuser - November 2025
DESCRIPTION:Download PDF Here: \nASHRAE Oregon Diffuser – November 2025
URL:https://www.orashrae.org/event/ashrae-oregon-newsletter-the-oregon-diffuser-november-2025/
CATEGORIES:The Oregon Diffuser
ATTACH;FMTTYPE=image/png:https://www.orashrae.org/wp-content/uploads/Screenshot-2025-11-03-101238.png
END:VEVENT
BEGIN:VEVENT
DTSTART;TZID=America/Los_Angeles:20251011T080000
DTEND;TZID=America/Los_Angeles:20251011T170000
DTSTAMP:20260423T155747
CREATED:20250923T181437Z
LAST-MODIFIED:20251002T004429Z
UID:2975-1760169600-1760202000@www.orashrae.org
SUMMARY:Young Engineers of ASHRAE & Student Activities Committe OSU Tailgate Event
DESCRIPTION:Join us for a tailgate at Reser Stadium as Oregon STate Football hosts Wake Forest. \nMeet your ASHRAE Oregon peers of the present and future\, as we are joined by current and prospective members of the student branch from Oregon State. \nFood and drinks will be provided\, and there is optional transportation to and from the Portland metro area.  We look forward to seeing you all there! \nGo Beavs! \nMORE INFORMATION TO FOLLOW! \nTailgate Schedule: \n8:00 AM – Transport departs from Portland \n9:30 AM – Start of Tailgate \n12:30 PM – Kick off \nTransport will depart from Corvallis approximately 30 minutes after the end of the game
URL:https://www.orashrae.org/event/young-engineers-of-ashrae-student-activities-committe-osu-tailgate-event/
CATEGORIES:YEA
ATTACH;FMTTYPE=application/pdf:https://www.orashrae.org/wp-content/uploads/yea-sac-OSU-tailgate-1.pdf
END:VEVENT
BEGIN:VEVENT
DTSTART;TZID=America/Los_Angeles:20251009T163000
DTEND;TZID=America/Los_Angeles:20251009T180000
DTSTAMP:20260423T155747
CREATED:20251007T153709Z
LAST-MODIFIED:20251007T173355Z
UID:3046-1760027400-1760032800@www.orashrae.org
SUMMARY:ASHRAE Oregon Board of Governors Meeting
DESCRIPTION:Join the Board as we discuss upcoming events\, new topics\, and financial standing.
URL:https://www.orashrae.org/event/ashrae-oregon-board-of-governors-meeting-5/
LOCATION:PAE Living Building\, 151 SW 1st Ave\, Portland\, OR\, 97204
END:VEVENT
BEGIN:VEVENT
DTSTART;TZID=America/Los_Angeles:20251008T163000
DTEND;TZID=America/Los_Angeles:20251008T200000
DTSTAMP:20260423T155747
CREATED:20250923T180120Z
LAST-MODIFIED:20250923T180120Z
UID:2972-1759941000-1759953600@www.orashrae.org
SUMMARY:Sustainable Buildings Week - October Technical Meeting - Whole Life Carbon: Integrating Operational\, Fugitive\, and Embodied Emissions
DESCRIPTION:Presentation Description: \nThis session explores whole life carbon through a systems-thinking lens\, moving from ecosystem-level to building lifecycle phases. Attendees will learn about gaps in current lifecycle assessment (LCA) frameworks and the challenges of capturing full carbon impacts\, particularly for MEP systems. The session highlights key emission categories and strategies to integrate operational\, refrigerant\, and embodied emissions into a comprehensive whole life carbon approach. \nPresenter Bio: \nRachel is a mechanical engineer at PAE with over a decade of experience in the design and analysis of high-performance buildings and a leading voice on MEP embodied carbon and emissions. She is passionate about advancing strategies that address the often-overlooked climate impacts of building systems\, from embodied carbon in materials to refrigerant leakage in HVAC. Her expertise spans educational\, commercial\, multifamily\, and historic projects\, where she has specialized in passive design strategies\, Net-Zero Energy\, Living Buildings\, and healthy materials. \n 
URL:https://www.orashrae.org/event/sustainable-buildings-week-october-technical-meeting-whole-life-carbon-integrating-operational-fugitive-and-embodied-emissions/
LOCATION:Stormbreaker Brewing\, 832 N Beech St\, Portland\, 97227\, United States
CATEGORIES:Monthly Meetings
ATTACH;FMTTYPE=image/png:https://www.orashrae.org/wp-content/uploads/October-Technical-Meeting.png
END:VEVENT
BEGIN:VEVENT
DTSTART;VALUE=DATE:20251001
DTEND;VALUE=DATE:20251002
DTSTAMP:20260423T155747
CREATED:20251007T153306Z
LAST-MODIFIED:20251007T153306Z
UID:3042-1759276800-1759363199@www.orashrae.org
SUMMARY:ASHRAE Oregon Newsletter: The Oregon Diffuser - October 2025
DESCRIPTION:Download PDF Here: \nOregon Diffuser October 2025
URL:https://www.orashrae.org/event/ashrae-oregon-newsletter-the-oregon-diffuser-october-2025/
CATEGORIES:The Oregon Diffuser
ATTACH;FMTTYPE=image/png:https://www.orashrae.org/wp-content/uploads/October-Newsletter.png
END:VEVENT
BEGIN:VEVENT
DTSTART;TZID=America/Los_Angeles:20250923T080000
DTEND;TZID=America/Los_Angeles:20250923T170000
DTSTAMP:20260423T155747
CREATED:20250923T190654Z
LAST-MODIFIED:20250923T190654Z
UID:2980-1758614400-1758646800@www.orashrae.org
SUMMARY:ASHRAE Oregon Chapter Meeting
DESCRIPTION:Sustainability Week Topic.
URL:https://www.orashrae.org/event/ashrae-oregon-chapter-meeting/
CATEGORIES:Monthly Meetings
END:VEVENT
BEGIN:VEVENT
DTSTART;TZID=America/Los_Angeles:20250918T163000
DTEND;TZID=America/Los_Angeles:20250918T203000
DTSTAMP:20260423T155747
CREATED:20250911T031616Z
LAST-MODIFIED:20250923T173253Z
UID:2967-1758213000-1758227400@www.orashrae.org
SUMMARY:September Technical Chapter Meeting - The (un)Ethical Engineer: A study of Principle & Practice
DESCRIPTION:The integrity of the HVAC industry is dependent on sound technical design\, reliable products\, skilled construction practice and consistent maintenance and operation. But another critical element that is sometimes overlooked is professional ethics. As members within the HVAC industry engineers\, contractors\, architects\, manufacturers\, vendors and building owners are expected to exhibit the highest standard of honesty and integrity to safeguard the confidence that the public has in us.  In this very competitive climate\, however\, it is sometimes tempting to “bend the rules” to some degree in order to gain an advantage over competition or to simply get the job done on time. But how much is too much? Is there a clearly defined line between ethical practice and “just the way things are done?” \n“The (un)Ethical Engineer” is an interactive\, multimedia\, dramatic presentation that explores these issues through the eyes of a well-intentioned engineer.
URL:https://www.orashrae.org/event/october-technical-chapter-meeting-the-unethical-engineer-a-study-of-principle-practice/
LOCATION:Stormbreaker Brewing\, 832 N Beech St\, Portland\, 97227\, United States
CATEGORIES:Monthly Meetings
END:VEVENT
BEGIN:VEVENT
DTSTART;VALUE=DATE:20250901
DTEND;VALUE=DATE:20250902
DTSTAMP:20260423T155747
CREATED:20250923T193744Z
LAST-MODIFIED:20250923T193843Z
UID:2996-1756684800-1756771199@www.orashrae.org
SUMMARY:ASHRAE Oregon Newsletter: The Oregon Diffuser September 2025
DESCRIPTION:Download PDF here:\nOregon Diffuser September 2025_Published
URL:https://www.orashrae.org/event/the-oregon-diffuser-september-2025/
CATEGORIES:The Oregon Diffuser
ATTACH;FMTTYPE=image/png:https://www.orashrae.org/wp-content/uploads/Screenshot-2025-09-23-at-12.36.45-PM.png
END:VEVENT
BEGIN:VEVENT
DTSTART;TZID=America/Los_Angeles:20250828T170000
DTEND;TZID=America/Los_Angeles:20250828T200000
DTSTAMP:20260423T155747
CREATED:20250707T150503Z
LAST-MODIFIED:20250721T192025Z
UID:2955-1756400400-1756411200@www.orashrae.org
SUMMARY:August Chapter Meeting - PE Licensure in Oregon: Gain and Sustain your Oregon PE
DESCRIPTION:PE Licensure in Oregon: Gain and Sustain your Oregon PE\nJoin the ASHRAE Oregon Chapter for an informative in-person dinner meeting where we’ll explore the path to becoming—and staying—licensed as a Professional Engineer in the state of Oregon. Whether you’re early in your career or a seasoned engineer\, this session will offer valuable guidance and updates straight from OSBEELS. \nPresented by:\nAshlee Graybeal\nCommunications Coordinator\, Oregon State Board of Examiners for Engineering & Land Surveying (OSBEELS) \n 
URL:https://www.orashrae.org/event/save-the-date-august-chapter-technical-meeting/
LOCATION:Baerlic’s Super Sceret Beer Club Event Space\, 2235 SE 11th Ave\, Portland\, OR\, 97214\, United States
CATEGORIES:Monthly Meetings
ATTACH;FMTTYPE=image/png:https://www.orashrae.org/wp-content/uploads/Screenshot-2025-07-21-121916.png
END:VEVENT
BEGIN:VEVENT
DTSTART;TZID=America/Los_Angeles:20250724T073000
DTEND;TZID=America/Los_Angeles:20250724T170000
DTSTAMP:20260423T155747
CREATED:20241014T193735Z
LAST-MODIFIED:20250923T201759Z
UID:2738-1753342200-1753376400@www.orashrae.org
SUMMARY:ASHRAE Annual Golf Tournament
DESCRIPTION:Thank you to our sponsors!
URL:https://www.orashrae.org/event/save-the-date-ashrae-annual-golf-tournament/
LOCATION:Stone Creek Golf Club\, 14603 S Stoneridge Drive\, Oregon City\, OR\, 97045\, United States
CATEGORIES:Golf Tournament
END:VEVENT
BEGIN:VEVENT
DTSTART;TZID=America/Los_Angeles:20250716T170000
DTEND;TZID=America/Los_Angeles:20250716T190000
DTSTAMP:20260423T155747
CREATED:20250707T150037Z
LAST-MODIFIED:20250707T150037Z
UID:2953-1752685200-1752692400@www.orashrae.org
SUMMARY:Meet the Board and Chapter Kickoff Happy Hour
DESCRIPTION:Ready to kick off the new ASHRAE year with purpose\, people\, and pints? Bring a colleague\, bring a curiosity\, bring your questions. Come meet your board and help us shape our upcoming year! \nJoin us for a fun and casual evening where you’ll get to: \n\nMEET THE 2025-2026 ASHRAE OREGON CHAPTER BOARD\n\nGet to know the volunteers driving our chapter forward — from seasoned leaders to new faces\, we’re excited to connect with you.\n\n\nHEAR WHAT’S COMING THIS YEAR\n\nSneak peek at the programming\, technical sessions\, and community impact we’re planning for the upcoming ASHRAE season.\n\n\nFIND YOUR PLACE TO PLUG IN\n\nWant to make a difference\, grow your network\, or just learn what ASHRAE is all about? There’s a place for every interest and availability. We’ll help you find a meaningful way to get involved.\n\n\n\nNO PRESSURE — JUST PEOPLE\, CONVERSATION\, AND DRINKS ON US \nHere’s to another great year for ASHRAE Oregon! \n  \nMeeting Agenda: \n5:00 PM – Welcome! Grab a drink and some light bites \n5:30 PM – Presential Address\, Board Introduction\, ASHRAE Oregon Introduction \n6:00 – 7:00 PM – Happy Hour and Mingle
URL:https://www.orashrae.org/event/meet-the-board-and-chapter-kickoff-happy-hour/
LOCATION:PAE Living Building\, 151 SW 1st Ave\, Portland\, OR\, 97204
CATEGORIES:Monthly Meetings
END:VEVENT
BEGIN:VEVENT
DTSTART;TZID=America/Los_Angeles:20250619T163000
DTEND;TZID=America/Los_Angeles:20250619T193000
DTSTAMP:20260423T155747
CREATED:20241014T193612Z
LAST-MODIFIED:20241014T193612Z
UID:2736-1750350600-1750361400@www.orashrae.org
SUMMARY:Save the Date - Membership Promotion Volunteer Event
DESCRIPTION:More Details to Come
URL:https://www.orashrae.org/event/save-the-date-membership-promotion-volunteer-event/
CATEGORIES:Membership Promotion
END:VEVENT
BEGIN:VEVENT
DTSTART;TZID=America/Los_Angeles:20250612T080000
DTEND;TZID=America/Los_Angeles:20250612T170000
DTSTAMP:20260423T155747
CREATED:20241014T193455Z
LAST-MODIFIED:20241014T193455Z
UID:2734-1749715200-1749747600@www.orashrae.org
SUMMARY:Save the Date - June Technical Chapter Meeting
DESCRIPTION:More Details to Come
URL:https://www.orashrae.org/event/save-the-date-june-technical-chapter-meeting/
CATEGORIES:Monthly Meetings
END:VEVENT
BEGIN:VEVENT
DTSTART;TZID=America/Los_Angeles:20250514T160000
DTEND;TZID=America/Los_Angeles:20250514T170000
DTSTAMP:20260423T155747
CREATED:20250512T174800Z
LAST-MODIFIED:20250512T190718Z
UID:2944-1747238400-1747242000@www.orashrae.org
SUMMARY:ASHRAE Cascades & BCxA Spring Social
DESCRIPTION:The ASHRAE Cascades Section is teaming up with the BCxA Northwest Chapter for a joint social event at Crux during the OSHE Spring Symposium in Bend\, Oregon. Come connect with fellow HVAC and commissioning professionals\, we hope to see you there! \nThere’s no cost to attend\, but please register so we can get an accurate headcount. The first drink is on us!
URL:https://www.orashrae.org/event/ashrae-cascades-bcxa-spring-social/
LOCATION:Crux Fermentation Project\, 50 SW Division St\, Bend\, OR 97702\, 50 SW Division St\, Bend\, OR\, 97702\, United States
CATEGORIES:Social Event
END:VEVENT
BEGIN:VEVENT
DTSTART;VALUE=DATE:20250510
DTEND;VALUE=DATE:20250511
DTSTAMP:20260423T155747
CREATED:20241014T193354Z
LAST-MODIFIED:20241014T193354Z
UID:2732-1746835200-1746921599@www.orashrae.org
SUMMARY:Chapters Regional Conference
DESCRIPTION:Day 3
URL:https://www.orashrae.org/event/chapters-regional-conference-3/
LOCATION:Hyatt Regency Portland at the Oregon Convention Center\, 375 NE Holladay St\, Portland\, OR\, 97232\, United States
CATEGORIES:Annual Meeting
END:VEVENT
BEGIN:VEVENT
DTSTART;VALUE=DATE:20250509
DTEND;VALUE=DATE:20250510
DTSTAMP:20260423T155747
CREATED:20241014T193254Z
LAST-MODIFIED:20241014T193254Z
UID:2730-1746748800-1746835199@www.orashrae.org
SUMMARY:Chapters Regional Conference
DESCRIPTION:Day 2 of the Chapter Regional Conference
URL:https://www.orashrae.org/event/chapters-regional-conference-2/
LOCATION:Hyatt Regency Portland at the Oregon Convention Center\, 375 NE Holladay St\, Portland\, OR\, 97232\, United States
CATEGORIES:Annual Meeting
END:VEVENT
BEGIN:VEVENT
DTSTART;VALUE=DATE:20250508
DTEND;VALUE=DATE:20250509
DTSTAMP:20260423T155747
CREATED:20241014T193140Z
LAST-MODIFIED:20241014T193140Z
UID:2727-1746662400-1746748799@www.orashrae.org
SUMMARY:Chapters Regional Conference
DESCRIPTION:ASHRAE Oregon will be hosting the Chapters Regional Conference in Oregon for the first time in 10 years!
URL:https://www.orashrae.org/event/chapters-regional-conference/
LOCATION:Hyatt Regency Portland at the Oregon Convention Center\, 375 NE Holladay St\, Portland\, OR\, 97232\, United States
CATEGORIES:Annual Meeting
END:VEVENT
BEGIN:VEVENT
DTSTART;TZID=America/Los_Angeles:20250417T180000
DTEND;TZID=America/Los_Angeles:20250417T213000
DTSTAMP:20260423T155747
CREATED:20241014T192820Z
LAST-MODIFIED:20250409T173348Z
UID:2725-1744912800-1744925400@www.orashrae.org
SUMMARY:Past President Night
DESCRIPTION:Please bring your friends and family as we gather for our annual celebration of ASHRAE Oregon Leadership! \n  \nOMSI Tickets will be offered at a discounted rate if you would like to arrive before the event and explore the exhibits prior to our 6PM start time.
URL:https://www.orashrae.org/event/save-the-date-april-technical-chapter-meeting-past-president-night/
LOCATION:OMSI\, 1945 SE Water Ave\, Portland\, Oregon\, 97214
CATEGORIES:Monthly Meetings
END:VEVENT
END:VCALENDAR