BEGIN:VCALENDAR
VERSION:2.0
PRODID:-//ASHRAE Oregon Chapter - ECPv6.15.18//NONSGML v1.0//EN
CALSCALE:GREGORIAN
METHOD:PUBLISH
X-ORIGINAL-URL:https://www.orashrae.org
X-WR-CALDESC:Events for ASHRAE Oregon Chapter
REFRESH-INTERVAL;VALUE=DURATION:PT1H
X-Robots-Tag:noindex
X-PUBLISHED-TTL:PT1H
BEGIN:VTIMEZONE
TZID:America/Los_Angeles
BEGIN:DAYLIGHT
TZOFFSETFROM:-0800
TZOFFSETTO:-0700
TZNAME:PDT
DTSTART:20180311T100000
END:DAYLIGHT
BEGIN:STANDARD
TZOFFSETFROM:-0700
TZOFFSETTO:-0800
TZNAME:PST
DTSTART:20181104T090000
END:STANDARD
BEGIN:DAYLIGHT
TZOFFSETFROM:-0800
TZOFFSETTO:-0700
TZNAME:PDT
DTSTART:20190310T100000
END:DAYLIGHT
BEGIN:STANDARD
TZOFFSETFROM:-0700
TZOFFSETTO:-0800
TZNAME:PST
DTSTART:20191103T090000
END:STANDARD
BEGIN:DAYLIGHT
TZOFFSETFROM:-0800
TZOFFSETTO:-0700
TZNAME:PDT
DTSTART:20200308T100000
END:DAYLIGHT
BEGIN:STANDARD
TZOFFSETFROM:-0700
TZOFFSETTO:-0800
TZNAME:PST
DTSTART:20201101T090000
END:STANDARD
BEGIN:DAYLIGHT
TZOFFSETFROM:-0800
TZOFFSETTO:-0700
TZNAME:PDT
DTSTART:20210314T100000
END:DAYLIGHT
BEGIN:STANDARD
TZOFFSETFROM:-0700
TZOFFSETTO:-0800
TZNAME:PST
DTSTART:20211107T090000
END:STANDARD
END:VTIMEZONE
BEGIN:VEVENT
DTSTART;TZID=America/Los_Angeles:20200130T180000
DTEND;TZID=America/Los_Angeles:20200130T200000
DTSTAMP:20260423T124748
CREATED:20200114T003527Z
LAST-MODIFIED:20200114T003744Z
UID:1963-1580407200-1580414400@www.orashrae.org
SUMMARY:YEA Social Event - Grand Central Bowling
DESCRIPTION:Come treat yourself to a fun\, mid-week break with fellow industry folks! \n$10 to sign up for food and bowling. Registration link to follow soon 🙂
URL:https://www.orashrae.org/event/yea-social-event-grand-central-bowling/
LOCATION:YEA Social Event – Grand Central Bowling\, 808 SE Morrison St.\, Portland\, OR\, 97214\, United States
CATEGORIES:YEA
END:VEVENT
BEGIN:VEVENT
DTSTART;TZID=America/Los_Angeles:20191204T173000
DTEND;TZID=America/Los_Angeles:20191204T203000
DTSTAMP:20260423T124748
CREATED:20191113T005947Z
LAST-MODIFIED:20191113T015259Z
UID:1938-1575480600-1575491400@www.orashrae.org
SUMMARY:YEA Social Activity - Mini Golf Happy Hour
DESCRIPTION:Young Engineers in ASHRAE Social Activity – Mini Golf Happy Hour @ Birdie Time Pub \nCome check out Birdie Time Pub’s brand-new space located on SE 10th Ave between Salmon and Main. \nWe will have a space reserved for our group\, access to the projector screen (i.e.\, Blazers game starting at 7pm) and ASHRAE will cover your first round of mini golf! \nWe hope everyone feels welcome to come out and have fun regardless of your golfing abilities. Come out and hang.
URL:https://www.orashrae.org/event/yea-social-activity-birdie-time-pub/
LOCATION:Birdie Time Pub\, 925 SE Main St.\, Portland\, OR\, 97214\, United States
CATEGORIES:YEA
END:VEVENT
BEGIN:VEVENT
DTSTART;TZID=America/Los_Angeles:20191009T173000
DTEND;TZID=America/Los_Angeles:20191009T183000
DTSTAMP:20260423T124748
CREATED:20191008T000046Z
LAST-MODIFIED:20191020T193830Z
UID:1802-1570642200-1570645800@www.orashrae.org
SUMMARY:YEA Committee Kickoff Meeting
DESCRIPTION:Agenda: \n\nIntroductions\nGoals for 2019-2020\nImpromptu Design Contest\nBrainstorming Session\n\nFeel free to send this invitation to other ASHRAE members you want to see at this meeting. Bring your thinking caps and get ready to have fun! \nQuestions? Contact Mark Trader – MarkTr@McKinstry.com
URL:https://www.orashrae.org/event/yea-committee-kickoff-meeting/
LOCATION:Eastside Rogue Brewery\, 928 SE 9th Avenue\, Portland\, 97214\, United States
CATEGORIES:YEA
END:VEVENT
END:VCALENDAR