BEGIN:VCALENDAR
VERSION:2.0
PRODID:-//ASHRAE Oregon Chapter - ECPv6.15.18//NONSGML v1.0//EN
CALSCALE:GREGORIAN
METHOD:PUBLISH
X-ORIGINAL-URL:https://www.orashrae.org
X-WR-CALDESC:Events for ASHRAE Oregon Chapter
REFRESH-INTERVAL;VALUE=DURATION:PT1H
X-Robots-Tag:noindex
X-PUBLISHED-TTL:PT1H
BEGIN:VTIMEZONE
TZID:America/Los_Angeles
BEGIN:DAYLIGHT
TZOFFSETFROM:-0800
TZOFFSETTO:-0700
TZNAME:PDT
DTSTART:20180311T100000
END:DAYLIGHT
BEGIN:STANDARD
TZOFFSETFROM:-0700
TZOFFSETTO:-0800
TZNAME:PST
DTSTART:20181104T090000
END:STANDARD
BEGIN:DAYLIGHT
TZOFFSETFROM:-0800
TZOFFSETTO:-0700
TZNAME:PDT
DTSTART:20190310T100000
END:DAYLIGHT
BEGIN:STANDARD
TZOFFSETFROM:-0700
TZOFFSETTO:-0800
TZNAME:PST
DTSTART:20191103T090000
END:STANDARD
BEGIN:DAYLIGHT
TZOFFSETFROM:-0800
TZOFFSETTO:-0700
TZNAME:PDT
DTSTART:20200308T100000
END:DAYLIGHT
BEGIN:STANDARD
TZOFFSETFROM:-0700
TZOFFSETTO:-0800
TZNAME:PST
DTSTART:20201101T090000
END:STANDARD
BEGIN:DAYLIGHT
TZOFFSETFROM:-0800
TZOFFSETTO:-0700
TZNAME:PDT
DTSTART:20210314T100000
END:DAYLIGHT
BEGIN:STANDARD
TZOFFSETFROM:-0700
TZOFFSETTO:-0800
TZNAME:PST
DTSTART:20211107T090000
END:STANDARD
BEGIN:DAYLIGHT
TZOFFSETFROM:-0800
TZOFFSETTO:-0700
TZNAME:PDT
DTSTART:20220313T100000
END:DAYLIGHT
BEGIN:STANDARD
TZOFFSETFROM:-0700
TZOFFSETTO:-0800
TZNAME:PST
DTSTART:20221106T090000
END:STANDARD
BEGIN:DAYLIGHT
TZOFFSETFROM:-0800
TZOFFSETTO:-0700
TZNAME:PDT
DTSTART:20230312T100000
END:DAYLIGHT
BEGIN:STANDARD
TZOFFSETFROM:-0700
TZOFFSETTO:-0800
TZNAME:PST
DTSTART:20231105T090000
END:STANDARD
BEGIN:DAYLIGHT
TZOFFSETFROM:-0800
TZOFFSETTO:-0700
TZNAME:PDT
DTSTART:20240310T100000
END:DAYLIGHT
BEGIN:STANDARD
TZOFFSETFROM:-0700
TZOFFSETTO:-0800
TZNAME:PST
DTSTART:20241103T090000
END:STANDARD
BEGIN:DAYLIGHT
TZOFFSETFROM:-0800
TZOFFSETTO:-0700
TZNAME:PDT
DTSTART:20250309T100000
END:DAYLIGHT
BEGIN:STANDARD
TZOFFSETFROM:-0700
TZOFFSETTO:-0800
TZNAME:PST
DTSTART:20251102T090000
END:STANDARD
BEGIN:DAYLIGHT
TZOFFSETFROM:-0800
TZOFFSETTO:-0700
TZNAME:PDT
DTSTART:20260308T100000
END:DAYLIGHT
BEGIN:STANDARD
TZOFFSETFROM:-0700
TZOFFSETTO:-0800
TZNAME:PST
DTSTART:20261101T090000
END:STANDARD
BEGIN:DAYLIGHT
TZOFFSETFROM:-0800
TZOFFSETTO:-0700
TZNAME:PDT
DTSTART:20270314T100000
END:DAYLIGHT
BEGIN:STANDARD
TZOFFSETFROM:-0700
TZOFFSETTO:-0800
TZNAME:PST
DTSTART:20271107T090000
END:STANDARD
END:VTIMEZONE
BEGIN:VEVENT
DTSTART;TZID=America/Los_Angeles:20260219T170000
DTEND;TZID=America/Los_Angeles:20260219T190000
DTSTAMP:20260423T124626
CREATED:20260126T174042Z
LAST-MODIFIED:20260126T174103Z
UID:3095-1771520400-1771527600@www.orashrae.org
SUMMARY:YEA Social Event: Pins & Pints
DESCRIPTION:Join us for a fun night of strikes\, spares\, and networking at the ASHRAE Oregon YEA Bowling Event! Whether you’re a seasoned bowler or just there for the good vibes\, this is a great opportunity to connect with fellow Young Engineers in ASHRAE and industry professionals in a relaxed\, social setting. Enjoy friendly competition\, team spirit\, and plenty of laughs—all while building relationships within the HVAC&R community. \nBe sure to Register Now as limited slots available. \nShare with your co-workers and friends! 🏆🎉
URL:https://www.orashrae.org/event/yea-social-event-pins-pints/
LOCATION:YEA Social Event – Grand Central Bowling\, 808 SE Morrison St.\, Portland\, OR\, 97214\, United States
CATEGORIES:Social Event,YEA
END:VEVENT
BEGIN:VEVENT
DTSTART;TZID=America/Los_Angeles:20251011T080000
DTEND;TZID=America/Los_Angeles:20251011T170000
DTSTAMP:20260423T124626
CREATED:20250923T181437Z
LAST-MODIFIED:20251002T004429Z
UID:2975-1760169600-1760202000@www.orashrae.org
SUMMARY:Young Engineers of ASHRAE & Student Activities Committe OSU Tailgate Event
DESCRIPTION:Join us for a tailgate at Reser Stadium as Oregon STate Football hosts Wake Forest. \nMeet your ASHRAE Oregon peers of the present and future\, as we are joined by current and prospective members of the student branch from Oregon State. \nFood and drinks will be provided\, and there is optional transportation to and from the Portland metro area.  We look forward to seeing you all there! \nGo Beavs! \nMORE INFORMATION TO FOLLOW! \nTailgate Schedule: \n8:00 AM – Transport departs from Portland \n9:30 AM – Start of Tailgate \n12:30 PM – Kick off \nTransport will depart from Corvallis approximately 30 minutes after the end of the game
URL:https://www.orashrae.org/event/young-engineers-of-ashrae-student-activities-committe-osu-tailgate-event/
CATEGORIES:YEA
ATTACH;FMTTYPE=application/pdf:https://www.orashrae.org/wp-content/uploads/yea-sac-OSU-tailgate-1.pdf
END:VEVENT
BEGIN:VEVENT
DTSTART;TZID=America/Los_Angeles:20230414T170000
DTEND;TZID=America/Los_Angeles:20230414T213000
DTSTAMP:20260423T124626
CREATED:20230330T193720Z
LAST-MODIFIED:20230330T193720Z
UID:2446-1681491600-1681507800@www.orashrae.org
SUMMARY:YEA Event - Liquid Cooling: Why it’s Making Such a Splash in Data Centers
DESCRIPTION:As the server power density in data centers goes ever higher\, the demand for more effective server rack cooling goes up too. Liquid cooling appears to be a very viable solution. Here’s your chance to learn all about why liquid cooling works so well … and watch some soccer too! \nVertiv will provide a pre-match presentation at Providence Park. Your electronic game ticket will allow you in starting at 5pm. The liquid cooling presentation will follow at 5:30pm in the Community Room. After the presentation\, we will provide dinner\, drinks\, and an opportunity to watch the Portland Thorns from the Modelo Cantina 😊 Hope to see you there!
URL:https://www.orashrae.org/event/yea-event-liquid-cooling-why-its-making-such-a-splash-in-data-centers/
LOCATION:Providence Park\, 1844 SW Morrison St\, Portland\, OR\, 97205\, United States
CATEGORIES:YEA
END:VEVENT
BEGIN:VEVENT
DTSTART;TZID=America/Los_Angeles:20230126T170000
DTEND;TZID=America/Los_Angeles:20230126T200000
DTSTAMP:20260423T124626
CREATED:20230120T223344Z
LAST-MODIFIED:20230120T223548Z
UID:2421-1674752400-1674763200@www.orashrae.org
SUMMARY:YEA - Happy Hour and Mini Golf
DESCRIPTION:Looking to practice your short game for spring? Or just have some fun? \nThen it’s time for a YEA “Strictly Social” event next Thursday at Birdie Time in SE Portland! Join us in the Aviary room and catch up with other YEA members. The Chapter will cover your first couple rounds… one at the bar and another at the mini golf course 😊 Hope to see you there!
URL:https://www.orashrae.org/event/yea-happy-hour-and-mini-golf/
LOCATION:Birdie Time Pub\, 925 SE Main St.\, Portland\, OR\, 97214\, United States
CATEGORIES:YEA
END:VEVENT
BEGIN:VEVENT
DTSTART;TZID=America/Los_Angeles:20211201T090000
DTEND;TZID=America/Los_Angeles:20211201T170000
DTSTAMP:20260423T124626
CREATED:20211130T010647Z
LAST-MODIFIED:20211130T010647Z
UID:2251-1638349200-1638378000@www.orashrae.org
SUMMARY:Technical Tour of Portland's New Living Building
DESCRIPTION:Young Engineers in ASHRAE (YEA):\nTechnical Tour of Portland’s New Living Building\nJoin other YEA members for a guided tour by PAE highlighting their design\, construction and occupancy of their new building! Check out their website for more details here. \nWhen: Wednesday\, December 1st – Two tour times available.\n\nMorning tour @ 9am\nAfternoon tour @ 4pm – Happy hour to follow\n\nWhere: 151 SW 1st Ave\, Portland\, OR 97204. Main entrance on SW 1st Ave.\nRegistration required\, maximum of 15 participants per tour.\n\nRegister for Morning Tour   Register for Afternoon Tour
URL:https://www.orashrae.org/event/technical-tour-of-portlands-new-living-building/
LOCATION:PAE Living Building\, 151 SW 1st Ave\, Portland\, OR\, 97204
CATEGORIES:YEA
END:VEVENT
BEGIN:VEVENT
DTSTART;TZID=America/Los_Angeles:20210626T100000
DTEND;TZID=America/Los_Angeles:20210626T130000
DTSTAMP:20260423T124626
CREATED:20210528T213221Z
LAST-MODIFIED:20210609T225920Z
UID:2202-1624701600-1624712400@www.orashrae.org
SUMMARY:YEA Volunteer Cleanup
DESCRIPTION:Young Engineers in ASHRAE and ASHRAE Student Activities are holding a joint event with SOLVE Oregon to clean up the Park Blocks and surrounding streets in downtown Portland. This event will be entirely outdoors and will comply with social distancing guidelines. After a safety talk and getting cleanup supplies\, we will spend a couple of hours picking up litter to improve our community and protect our ecosystem. Join us in making Portland a better place! Stick around after the event for socializing and a complimentary lunch. \nFull registration is a short 2-step process. Start by registering with SOLVE Oregon to create a volunteer profile and sign their liability waiver. Next\, head over to constant contact and let us know if you are a student or member and if you have any food allergies. We appreciate you taking the time out of your busy schedule to get fully registered for this event and we look forward to seeing you there! \nSOLVE Registration Link: https://qrco.de/SOLVEregistration2021 \nConstant Contact Questionnaire: https://qrco.de/CCQuestionnaire
URL:https://www.orashrae.org/event/yea-volunteer-cleanup/
LOCATION:PSU Children’s Playground\, 1969 SW Park Ave\, Portland\, Oregon\, 97201
CATEGORIES:YEA
END:VEVENT
BEGIN:VEVENT
DTSTART;TZID=America/Los_Angeles:20210408T170000
DTEND;TZID=America/Los_Angeles:20210408T200000
DTSTAMP:20260423T124626
CREATED:20210316T210301Z
LAST-MODIFIED:20210316T210301Z
UID:2179-1617901200-1617912000@www.orashrae.org
SUMMARY:YEA Outdoor Gathering
DESCRIPTION:What: YEA Social Activity (Outdoor\, Socially-Distant with masks) \nWhen: Thursday\, April 8th from 5-8 pm \nWhere: Sellwood Park Picnic Area B\, see Sellwood Park Area Map or use “7968 SE Grand Ave.” to locate nearest entrance \nWhy: To reconnect with fellow YEA members in an outdoor\, socially-distant environment. Wear a mask. Music and yard games will be provided. BYOB (refreshments\, beer or wine permitted 21+)
URL:https://www.orashrae.org/event/yea-outdoor-gathering/
LOCATION:Sellwood Park\, 7968 SE Grand Ave\, Portland\, Oregon
CATEGORIES:YEA
END:VEVENT
BEGIN:VEVENT
DTSTART;TZID=America/Los_Angeles:20201222T173000
DTEND;TZID=America/Los_Angeles:20201222T190000
DTSTAMP:20260423T124626
CREATED:20201209T223138Z
LAST-MODIFIED:20201216T013558Z
UID:2167-1608658200-1608663600@www.orashrae.org
SUMMARY:Awards Happy Hour - 2020 Annual Ugly Sweater Contest
DESCRIPTION:It’s that time of year again! We know 2020 is ugly enough\, but it’s time to dust off your ugliest holiday sweaters and get ready for the annual Emerging Professionals Ugly Sweater Party. If you thought COVID was going to force us to break tradition\, you thought wrong! \nThis year we will be holding an online Ugly Sweater Competition\, which will be culminated by a digital Ugly Sweater Awards Happy Hour on Tuesday December 22nd. \nThe categories for this year’s Ugly Sweater Party are as follows: \n\nUgliest Sweater\nMost Creative / Original\nJudges’ Choice\nPeople’s Choice\nPets and Children\n\nThe People’s Choice award will be voted on through a public poll. The voting will continue right up until the Awards Happy Hour. Anyone can participate. The winners will receive prizes in the form of gift cards. \nAll submissions must be received by December 15th at 11:00pm to be posted at the start of the voting period. Submissions will continue to be accepted throughout the voting period and added as the competition goes on. \nTo submit your ugly sweater for the competition\, please email a photograph of your submission to: orashrae@gmail.com with the subject line: “Ugly Sweater 2020”. Be sure to include the following: \n\nA photo of you or the contestant wearing the sweater.\nYour name\, and email.\nWhat chapter and organization do you belong to: Example: CSI/Portland\, ASHRAE/Oregon\, ASHRAE/Willamette-Valley etc.\nA brief statement about yourself\, what you are passionate about\, who you work for\, how long you have been in the industry\, etc.\nOptional: A statement about your submission to be posted with your photo to help earn votes.\n\nBy emailing your ugly sweater submission\, you give full rights to CSI Portland and ASHRAE Oregon to publish your submission\, including photo and text\, on their respective websites\, newsletters\, and social media including but not limited to: Instagram\, LinkedIn\, Facebook\, Twitter\, Youtube\, Messenger.
URL:https://www.orashrae.org/event/awards-happy-hour-2020-annual-ugly-sweater-contest/
CATEGORIES:YEA
END:VEVENT
BEGIN:VEVENT
DTSTART;TZID=America/Los_Angeles:20201215T230000
DTEND;TZID=America/Los_Angeles:20201215T230000
DTSTAMP:20260423T124626
CREATED:20201209T223014Z
LAST-MODIFIED:20201216T013530Z
UID:2164-1608073200-1608073200@www.orashrae.org
SUMMARY:Voting Opens - 2020 Annual Ugly Sweater Contest
DESCRIPTION:It’s that time of year again! We know 2020 is ugly enough\, but it’s time to dust off your ugliest holiday sweaters and get ready for the annual Emerging Professionals Ugly Sweater Party. If you thought COVID was going to force us to break tradition\, you thought wrong! \nThis year we will be holding an online Ugly Sweater Competition\, which will be culminated by a digital Ugly Sweater Awards Happy Hour on Tuesday December 22nd. \nThe categories for this year’s Ugly Sweater Party are as follows: \n\nUgliest Sweater\nMost Creative / Original\nJudges’ Choice\nPeople’s Choice\nPets and Children\n\nThe People’s Choice award will be voted on through a public poll. The voting will continue right up until the Awards Happy Hour. Anyone can participate. The winners will receive prizes in the form of gift cards. \nAll submissions must be received by December 15th at 11:00pm to be posted at the start of the voting period. Submissions will continue to be accepted throughout the voting period and added as the competition goes on. \nTo submit your ugly sweater for the competition\, please email a photograph of your submission to: orashrae@gmail.com with the subject line: “Ugly Sweater 2020”. Be sure to include the following: \n\nA photo of you or the contestant wearing the sweater.\nYour name\, and email.\nWhat chapter and organization do you belong to: Example: CSI/Portland\, ASHRAE/Oregon\, ASHRAE/Willamette-Valley etc.\nA brief statement about yourself\, what you are passionate about\, who you work for\, how long you have been in the industry\, etc.\nOptional: A statement about your submission to be posted with your photo to help earn votes.\n\nBy emailing your ugly sweater submission\, you give full rights to CSI Portland and ASHRAE Oregon to publish your submission\, including photo and text\, on their respective websites\, newsletters\, and social media including but not limited to: Instagram\, LinkedIn\, Facebook\, Twitter\, Youtube\, Messenger. \n 
URL:https://www.orashrae.org/event/voting-opens-2020-annual-ugly-sweater-contest/
CATEGORIES:YEA
END:VEVENT
BEGIN:VEVENT
DTSTART;TZID=America/Los_Angeles:20200926T100000
DTEND;TZID=America/Los_Angeles:20200926T120000
DTSTAMP:20260423T124626
CREATED:20200910T162621Z
LAST-MODIFIED:20201014T175234Z
UID:2130-1601114400-1601121600@www.orashrae.org
SUMMARY:YEA Willamette River Cleanup with SOLVE
DESCRIPTION:Come give back to this little known gem of a beach and hiking trail along the Willamette River. \nAll cleanup supplies will be provided\, just dress for the weather\, wear closed-toe shoes and bring a filled reusable water bottle. Please wear a mask and practice social distancing when checking in and receiving your supplies and instructions. \nWe will meet 1/4 mile south of the Sellwood Bridge on Hwy 43. Park on the wide shoulder\, on the river side of Hwy 43. Look for the SOLVE signs and registration table. \nLink to register:  https://www.solveoregon.org/opportunity/a0C1I00000RRWsCUAX \nLocation Map: https://goo.gl/maps/UokZzWoi1mn7VfkX7 \nSustainable tips: https://www.solveoregon.org/sustainability \n  \n  \nThe YEA kickoff to 2020-2021 program year was a success! Our members were able to take part in a beach cleanup event organized by SOLVE Oregon on Saturday\, September 27th. We teamed up with individuals and crews from various local organizations\, including the Portland Rugby Club\, to help make our community a cleaner and divert materials (such as plastics\, metal and motor oil) from entering the Willamette River. Plus\, we found this activity particularly relevant because it was outdoors and easily allowed for volunteers to maintain social distancing and wear face coverings. \n  \nThe inspiration for this event came from a brainstorming session held at last year’s YEA kickoff at Rouge Brewing – remember when we could meet at a brewery!?! Please let us know if you have any new ideas or want to get involved in a similar activity in the near future. Contact Mark Trader (YEA Chair) at mark.j.trader@swinerton.com or @oregon_ashrae on Instagram. \n 
URL:https://www.orashrae.org/event/yea-willamette-river-cleanup-with-solve/
CATEGORIES:Meeting Notes,Student Events,YEA
END:VEVENT
BEGIN:VEVENT
DTSTART;TZID=America/Los_Angeles:20200130T180000
DTEND;TZID=America/Los_Angeles:20200130T200000
DTSTAMP:20260423T124626
CREATED:20200114T003527Z
LAST-MODIFIED:20200114T003744Z
UID:1963-1580407200-1580414400@www.orashrae.org
SUMMARY:YEA Social Event - Grand Central Bowling
DESCRIPTION:Come treat yourself to a fun\, mid-week break with fellow industry folks! \n$10 to sign up for food and bowling. Registration link to follow soon 🙂
URL:https://www.orashrae.org/event/yea-social-event-grand-central-bowling/
LOCATION:YEA Social Event – Grand Central Bowling\, 808 SE Morrison St.\, Portland\, OR\, 97214\, United States
CATEGORIES:YEA
END:VEVENT
BEGIN:VEVENT
DTSTART;TZID=America/Los_Angeles:20191204T173000
DTEND;TZID=America/Los_Angeles:20191204T203000
DTSTAMP:20260423T124626
CREATED:20191113T005947Z
LAST-MODIFIED:20191113T015259Z
UID:1938-1575480600-1575491400@www.orashrae.org
SUMMARY:YEA Social Activity - Mini Golf Happy Hour
DESCRIPTION:Young Engineers in ASHRAE Social Activity – Mini Golf Happy Hour @ Birdie Time Pub \nCome check out Birdie Time Pub’s brand-new space located on SE 10th Ave between Salmon and Main. \nWe will have a space reserved for our group\, access to the projector screen (i.e.\, Blazers game starting at 7pm) and ASHRAE will cover your first round of mini golf! \nWe hope everyone feels welcome to come out and have fun regardless of your golfing abilities. Come out and hang.
URL:https://www.orashrae.org/event/yea-social-activity-birdie-time-pub/
LOCATION:Birdie Time Pub\, 925 SE Main St.\, Portland\, OR\, 97214\, United States
CATEGORIES:YEA
END:VEVENT
BEGIN:VEVENT
DTSTART;TZID=America/Los_Angeles:20191009T173000
DTEND;TZID=America/Los_Angeles:20191009T183000
DTSTAMP:20260423T124626
CREATED:20191008T000046Z
LAST-MODIFIED:20191020T193830Z
UID:1802-1570642200-1570645800@www.orashrae.org
SUMMARY:YEA Committee Kickoff Meeting
DESCRIPTION:Agenda: \n\nIntroductions\nGoals for 2019-2020\nImpromptu Design Contest\nBrainstorming Session\n\nFeel free to send this invitation to other ASHRAE members you want to see at this meeting. Bring your thinking caps and get ready to have fun! \nQuestions? Contact Mark Trader – MarkTr@McKinstry.com
URL:https://www.orashrae.org/event/yea-committee-kickoff-meeting/
LOCATION:Eastside Rogue Brewery\, 928 SE 9th Avenue\, Portland\, 97214\, United States
CATEGORIES:YEA
END:VEVENT
END:VCALENDAR