BEGIN:VCALENDAR
VERSION:2.0
PRODID:-//ASHRAE Oregon Chapter - ECPv6.15.18//NONSGML v1.0//EN
CALSCALE:GREGORIAN
METHOD:PUBLISH
X-WR-CALNAME:ASHRAE Oregon Chapter
X-ORIGINAL-URL:https://www.orashrae.org
X-WR-CALDESC:Events for ASHRAE Oregon Chapter
REFRESH-INTERVAL;VALUE=DURATION:PT1H
X-Robots-Tag:noindex
X-PUBLISHED-TTL:PT1H
BEGIN:VTIMEZONE
TZID:America/Los_Angeles
BEGIN:DAYLIGHT
TZOFFSETFROM:-0800
TZOFFSETTO:-0700
TZNAME:PDT
DTSTART:20170312T100000
END:DAYLIGHT
BEGIN:STANDARD
TZOFFSETFROM:-0700
TZOFFSETTO:-0800
TZNAME:PST
DTSTART:20171105T090000
END:STANDARD
BEGIN:DAYLIGHT
TZOFFSETFROM:-0800
TZOFFSETTO:-0700
TZNAME:PDT
DTSTART:20180311T100000
END:DAYLIGHT
BEGIN:STANDARD
TZOFFSETFROM:-0700
TZOFFSETTO:-0800
TZNAME:PST
DTSTART:20181104T090000
END:STANDARD
BEGIN:DAYLIGHT
TZOFFSETFROM:-0800
TZOFFSETTO:-0700
TZNAME:PDT
DTSTART:20190310T100000
END:DAYLIGHT
BEGIN:STANDARD
TZOFFSETFROM:-0700
TZOFFSETTO:-0800
TZNAME:PST
DTSTART:20191103T090000
END:STANDARD
BEGIN:DAYLIGHT
TZOFFSETFROM:-0800
TZOFFSETTO:-0700
TZNAME:PDT
DTSTART:20200308T100000
END:DAYLIGHT
BEGIN:STANDARD
TZOFFSETFROM:-0700
TZOFFSETTO:-0800
TZNAME:PST
DTSTART:20201101T090000
END:STANDARD
END:VTIMEZONE
BEGIN:VTIMEZONE
TZID:UTC
BEGIN:STANDARD
TZOFFSETFROM:+0000
TZOFFSETTO:+0000
TZNAME:UTC
DTSTART:20160101T000000
END:STANDARD
END:VTIMEZONE
BEGIN:VEVENT
DTSTART;TZID=America/Los_Angeles:20190522T120000
DTEND;TZID=America/Los_Angeles:20190522T130000
DTSTAMP:20260423T112115
CREATED:20190508T162324Z
LAST-MODIFIED:20190508T162324Z
UID:1756-1558526400-1558530000@www.orashrae.org
SUMMARY:Willamette Valley Section Planning Meeting
DESCRIPTION:Please join the ASHRAE Willamette Valley Section President & Treasurer at the PublicHouse on May 22nd for the annual planning meeting. The meeting will be to discuss upcoming buildings tours and meeting topics. No host\, visit https://www.publichousehub.com/ for your own lunch options. \nRegister Now! \nWe look forward to hearing from you! \nCheers\, \nAmber Kelel\, Systems West Engineers\, ASHRAE Oregon Chapter-Willamette Valley Section\nakelel@systemswestengineers.com\, 541-342-7210
URL:https://www.orashrae.org/event/willamette-valley-section-planning-meeting/
LOCATION:Public House\, 418 A Street\, Springfield\, OR\, 97477\, United States
CATEGORIES:Monthly Meetings,WV Section
END:VEVENT
BEGIN:VEVENT
DTSTART;TZID=America/Los_Angeles:20190412T120000
DTEND;TZID=America/Los_Angeles:20190412T130000
DTSTAMP:20260423T112115
CREATED:20181025T155226Z
LAST-MODIFIED:20190327T201902Z
UID:1629-1555070400-1555074000@www.orashrae.org
SUMMARY:April Willamette Valley Chapter Meeting
DESCRIPTION:Please join us for an ASHRAE-Willamette Valley Section Lunch & Learn meeting on Friday\, April 12th from 12 pm – 1 pm at Systems West Engineers in Springfield. The lunch and learn will include lunch and presentation on High-Performance Building Design by ASHRAE distinguished lecturer Thomas Lawrence\, Ph.D.\, P.E.  Space is limited. \nRegister Now! \nQuestions? Contact Amber at akelel@systemswestengineers.com \nHope to see you soon\, \nAmber Kelel\, ASHRAE Oregon Chapter [Willamette Valley Section]\nakelel@systemswestengineers.com\, 541-342-7210
URL:https://www.orashrae.org/event/april-willamette-valley-chapter-meeting/
LOCATION:Systems West Engineers\, 725 A Street\, Springfield\, OR\, 97477\, United States
CATEGORIES:Monthly Meetings,WV Section
END:VEVENT
BEGIN:VEVENT
DTSTART;TZID=America/Los_Angeles:20181114T173000
DTEND;TZID=America/Los_Angeles:20181114T200000
DTSTAMP:20260423T112115
CREATED:20180925T205545Z
LAST-MODIFIED:20181025T145246Z
UID:1554-1542216600-1542225600@www.orashrae.org
SUMMARY:Willamette Valley Section Chapter Meeting
DESCRIPTION:You’re invited to the ASHRAE Oregon-Willamette Valley Section meeting on Wednesday\, November 14\, 2018.  ASHRAE Distinguished Lecturer and Professional Engineer\, Daniel Nall\, will be presenting on Innovative HVAC Systems for Energy Efficiency. \n5:30 pm | Welcome Social\, no-host\n6:00 pm | Buffet Dinner\n7:00 pm | Presentation on Energy Efficient HVAC Strategies \nFor Complete Details and to Register Click Here! \nPlease contact Amber with questions or registration issues. We look forward to seeing you next month! \nSincerely\, \nAmber Kelel\nASHRAE Oregon-Willamette Valley Section\nakelel@systemswestengineers.com
URL:https://www.orashrae.org/event/willamette-valley-section-chapter-meeting/
LOCATION:Willie’s Lebanese & Northwest Cuisine\\, 400 International Way\, Springfield\, OR\, 97477\, United States
CATEGORIES:Monthly Meetings,WV Section
END:VEVENT
BEGIN:VEVENT
DTSTART;TZID=UTC:20170112T173000
DTEND;TZID=UTC:20170112T203000
DTSTAMP:20260423T112115
CREATED:20161220T044157Z
LAST-MODIFIED:20170304T042723Z
UID:573-1484242200-1484253000@www.orashrae.org
SUMMARY:Willamette Valley Section January Meeting: Achieving a Sound Design Through Integrated Systems Solutions
DESCRIPTION:Please join the ASHRAE-Willamette Valley Section on January 12th\, 2017 for dinner and a presentation by Russell Hawkins of Vibro-Acoustics\, “Achieving a Sound Design Through Integrated Systems Solutions.” \nPresentation Synopsis\nWhen it comes to mechanical equipment noise\, only the correct application of vibration isolation and noise control products will produce a solution. That’s why picking a product from a catalog all too often leads to misapplication and results in severe problems or even disaster.  \nASHRAE states that there are three primary causes behind all HVAC noise problems: either noise control was not considered at the design stage\, it was the victim of “de-value engineering” post-design\, or system components were not integrated properly despite being considered. Vibration and noise sources and paths should be analyzed at project outset and vibration isolation and noise control solutions looked at together\, addressing both airborne and structural-borne noise. This is the only possible way to achieve the sound criterion in a space.
URL:https://www.orashrae.org/event/willamette-valley-section-january-meeting-achieving-sound-design-integrated-systems-solutions/
LOCATION:Willie’s Lebanese Restaurant & NW Cuisine\, 400 International Way\, Springfield\, OR\, 97477\, United States
CATEGORIES:Meeting Notes,WV Section
END:VEVENT
END:VCALENDAR