BEGIN:VCALENDAR
VERSION:2.0
PRODID:-//ASHRAE Oregon Chapter - ECPv6.15.18//NONSGML v1.0//EN
CALSCALE:GREGORIAN
METHOD:PUBLISH
X-ORIGINAL-URL:https://www.orashrae.org
X-WR-CALDESC:Events for ASHRAE Oregon Chapter
REFRESH-INTERVAL;VALUE=DURATION:PT1H
X-Robots-Tag:noindex
X-PUBLISHED-TTL:PT1H
BEGIN:VTIMEZONE
TZID:America/Los_Angeles
BEGIN:DAYLIGHT
TZOFFSETFROM:-0800
TZOFFSETTO:-0700
TZNAME:PDT
DTSTART:20240310T100000
END:DAYLIGHT
BEGIN:STANDARD
TZOFFSETFROM:-0700
TZOFFSETTO:-0800
TZNAME:PST
DTSTART:20241103T090000
END:STANDARD
BEGIN:DAYLIGHT
TZOFFSETFROM:-0800
TZOFFSETTO:-0700
TZNAME:PDT
DTSTART:20250309T100000
END:DAYLIGHT
BEGIN:STANDARD
TZOFFSETFROM:-0700
TZOFFSETTO:-0800
TZNAME:PST
DTSTART:20251102T090000
END:STANDARD
BEGIN:DAYLIGHT
TZOFFSETFROM:-0800
TZOFFSETTO:-0700
TZNAME:PDT
DTSTART:20260308T100000
END:DAYLIGHT
BEGIN:STANDARD
TZOFFSETFROM:-0700
TZOFFSETTO:-0800
TZNAME:PST
DTSTART:20261101T090000
END:STANDARD
END:VTIMEZONE
BEGIN:VEVENT
DTSTART;TZID=America/Los_Angeles:20250312T163000
DTEND;TZID=America/Los_Angeles:20250312T183000
DTSTAMP:20260423T131855
CREATED:20250225T160829Z
LAST-MODIFIED:20250225T160829Z
UID:2889-1741797000-1741804200@www.orashrae.org
SUMMARY:Feeling Crafty? - Join the Women in ASHRAE & Women in ASPE for a Craft Night
DESCRIPTION:DIY Terrarium & Happy Hour\n\n\n\n  \n\n\n\nMarch 12\, 2025 \n4:30 PM \n@ PAE Living Building\, 5th Floor Deckony\n\n\n\n  \n\n\n\nCome enjoy a happy hour where you can mingle and put together your very own plant terrarium. \n  \nThis event is hosted by Women in ASHRAE and Women of ASPE and all are welcome! \n  \nWe hope to see you there! \n 
URL:https://www.orashrae.org/event/feeling-crafty-join-the-women-in-ashrae-women-in-aspe-for-a-craft-night/
LOCATION:PAE Living Building\, 151 SW 1st Ave\, Portland\, OR\, 97204
CATEGORIES:Women in ASHRAE
END:VEVENT
END:VCALENDAR