BEGIN:VCALENDAR
VERSION:2.0
PRODID:-//ASHRAE Oregon Chapter - ECPv6.15.18//NONSGML v1.0//EN
CALSCALE:GREGORIAN
METHOD:PUBLISH
X-WR-CALNAME:ASHRAE Oregon Chapter
X-ORIGINAL-URL:https://www.orashrae.org
X-WR-CALDESC:Events for ASHRAE Oregon Chapter
REFRESH-INTERVAL;VALUE=DURATION:PT1H
X-Robots-Tag:noindex
X-PUBLISHED-TTL:PT1H
BEGIN:VTIMEZONE
TZID:America/Los_Angeles
BEGIN:DAYLIGHT
TZOFFSETFROM:-0800
TZOFFSETTO:-0700
TZNAME:PDT
DTSTART:20180311T100000
END:DAYLIGHT
BEGIN:STANDARD
TZOFFSETFROM:-0700
TZOFFSETTO:-0800
TZNAME:PST
DTSTART:20181104T090000
END:STANDARD
BEGIN:DAYLIGHT
TZOFFSETFROM:-0800
TZOFFSETTO:-0700
TZNAME:PDT
DTSTART:20190310T100000
END:DAYLIGHT
BEGIN:STANDARD
TZOFFSETFROM:-0700
TZOFFSETTO:-0800
TZNAME:PST
DTSTART:20191103T090000
END:STANDARD
BEGIN:DAYLIGHT
TZOFFSETFROM:-0800
TZOFFSETTO:-0700
TZNAME:PDT
DTSTART:20200308T100000
END:DAYLIGHT
BEGIN:STANDARD
TZOFFSETFROM:-0700
TZOFFSETTO:-0800
TZNAME:PST
DTSTART:20201101T090000
END:STANDARD
BEGIN:DAYLIGHT
TZOFFSETFROM:-0800
TZOFFSETTO:-0700
TZNAME:PDT
DTSTART:20210314T100000
END:DAYLIGHT
BEGIN:STANDARD
TZOFFSETFROM:-0700
TZOFFSETTO:-0800
TZNAME:PST
DTSTART:20211107T090000
END:STANDARD
BEGIN:DAYLIGHT
TZOFFSETFROM:-0800
TZOFFSETTO:-0700
TZNAME:PDT
DTSTART:20220313T100000
END:DAYLIGHT
BEGIN:STANDARD
TZOFFSETFROM:-0700
TZOFFSETTO:-0800
TZNAME:PST
DTSTART:20221106T090000
END:STANDARD
BEGIN:DAYLIGHT
TZOFFSETFROM:-0800
TZOFFSETTO:-0700
TZNAME:PDT
DTSTART:20230312T100000
END:DAYLIGHT
BEGIN:STANDARD
TZOFFSETFROM:-0700
TZOFFSETTO:-0800
TZNAME:PST
DTSTART:20231105T090000
END:STANDARD
BEGIN:DAYLIGHT
TZOFFSETFROM:-0800
TZOFFSETTO:-0700
TZNAME:PDT
DTSTART:20240310T100000
END:DAYLIGHT
BEGIN:STANDARD
TZOFFSETFROM:-0700
TZOFFSETTO:-0800
TZNAME:PST
DTSTART:20241103T090000
END:STANDARD
END:VTIMEZONE
BEGIN:VEVENT
DTSTART;VALUE=DATE:20231006
DTEND;VALUE=DATE:20231007
DTSTAMP:20260423T111830
CREATED:20230927T172937Z
LAST-MODIFIED:20230927T172937Z
UID:2491-1696550400-1696636799@www.orashrae.org
SUMMARY:OSU Student Branch Meeting - Trivia Night
DESCRIPTION:Trivia Night \nMore details to follow…
URL:https://www.orashrae.org/event/osu-student-branch-meeting-trivia-night/
LOCATION:TBD – Corvallis\, OR\, Corvallis\, OR\, United States
CATEGORIES:Student Events
END:VEVENT
BEGIN:VEVENT
DTSTART;TZID=America/Los_Angeles:20230216T173000
DTEND;TZID=America/Los_Angeles:20230216T200000
DTSTAMP:20260423T111830
CREATED:20221117T012334Z
LAST-MODIFIED:20230120T223747Z
UID:2395-1676568600-1676577600@www.orashrae.org
SUMMARY:Annual Student Trivia Night
DESCRIPTION:Registration is OPEN for ASHRAE’s Annual Student Trivia Night on Thursday\, February 16th\, 2023 @ 5:30PM at Shine Distillery & Grill. \nOur first in-person trivia night since 2020 will feature a live trivia host leading 3 engaging rounds of pub-style trivia! Registration closes EOD Wednesday 2/15\, so be sure to get your name on our list by registering today! Don’t miss this opportunity to socialize with your peers in a friendly\, competitive setting. \nAll profits from this meeting go to benefit the Student Activities Committee (SAC). \nIn addition to trivia\, the Oregon ASHRAE Chapter will be awarding the annual student scholarships\, so come and support our industry’s future! \nDon’t forget to bring your old ASHRAE manuals for donation\, the SAC will put them to good use. \nWe look forward to seeing you all at Student Trivia Night\, thank you for your support.
URL:https://www.orashrae.org/event/annual-student-trivia-night-2/
LOCATION:Shine Distillery\, 4232 N Williams Ave\, Portland\, OR\, 97217\, United States
CATEGORIES:Student Events
END:VEVENT
BEGIN:VEVENT
DTSTART;TZID=America/Los_Angeles:20220224T170000
DTEND;TZID=America/Los_Angeles:20220224T190000
DTSTAMP:20260423T111830
CREATED:20220223T001216Z
LAST-MODIFIED:20220223T001216Z
UID:2278-1645722000-1645729200@www.orashrae.org
SUMMARY:Student Trivia Night
DESCRIPTION:ASHRAE’s Annual Student Trivia Night is ON! On Thursday\, February 24th\, 2022\, tune in to hear Brett Stinson\, PSU Student and winner of 2022 ASHRAE HVAC&R Student Paper Competition. He will be presenting on his experience attending the 2022 ASHRAE Winter Conference. \nFollowing his presentation\, a live\, professional TriviaHub host will bring us three rounds of fun\, engaging\, pub-style trivia! Registration closes EOD Wednesday 2/23\, so be sure to get your name on our list by registering today! Don’t miss this opportunity to socialize with your peers in a friendly\, competitive setting. \nAll the fun of traditional ASHRAE Student Trivia Night without the hassle of parking! Register now by clicking the button below! We can’t wait to see you there! \nRegister\n 
URL:https://www.orashrae.org/event/student-trivia-night/
LOCATION:OR
CATEGORIES:Student Events
END:VEVENT
BEGIN:VEVENT
DTSTART;TZID=America/Los_Angeles:20200926T100000
DTEND;TZID=America/Los_Angeles:20200926T120000
DTSTAMP:20260423T111830
CREATED:20200910T162621Z
LAST-MODIFIED:20201014T175234Z
UID:2130-1601114400-1601121600@www.orashrae.org
SUMMARY:YEA Willamette River Cleanup with SOLVE
DESCRIPTION:Come give back to this little known gem of a beach and hiking trail along the Willamette River. \nAll cleanup supplies will be provided\, just dress for the weather\, wear closed-toe shoes and bring a filled reusable water bottle. Please wear a mask and practice social distancing when checking in and receiving your supplies and instructions. \nWe will meet 1/4 mile south of the Sellwood Bridge on Hwy 43. Park on the wide shoulder\, on the river side of Hwy 43. Look for the SOLVE signs and registration table. \nLink to register:  https://www.solveoregon.org/opportunity/a0C1I00000RRWsCUAX \nLocation Map: https://goo.gl/maps/UokZzWoi1mn7VfkX7 \nSustainable tips: https://www.solveoregon.org/sustainability \n  \n  \nThe YEA kickoff to 2020-2021 program year was a success! Our members were able to take part in a beach cleanup event organized by SOLVE Oregon on Saturday\, September 27th. We teamed up with individuals and crews from various local organizations\, including the Portland Rugby Club\, to help make our community a cleaner and divert materials (such as plastics\, metal and motor oil) from entering the Willamette River. Plus\, we found this activity particularly relevant because it was outdoors and easily allowed for volunteers to maintain social distancing and wear face coverings. \n  \nThe inspiration for this event came from a brainstorming session held at last year’s YEA kickoff at Rouge Brewing – remember when we could meet at a brewery!?! Please let us know if you have any new ideas or want to get involved in a similar activity in the near future. Contact Mark Trader (YEA Chair) at mark.j.trader@swinerton.com or @oregon_ashrae on Instagram. \n 
URL:https://www.orashrae.org/event/yea-willamette-river-cleanup-with-solve/
LOCATION:OR
CATEGORIES:Meeting Notes,Student Events,YEA
END:VEVENT
BEGIN:VEVENT
DTSTART;TZID=America/Los_Angeles:20200215T183000
DTEND;TZID=America/Los_Angeles:20200215T220000
DTSTAMP:20260423T111830
CREATED:20191008T002455Z
LAST-MODIFIED:20200206T210127Z
UID:1840-1581791400-1581804000@www.orashrae.org
SUMMARY:2020 Annual Student Trivia Night
DESCRIPTION:Come one\, come all\, for one of our favorite events of the year… student trivia night! Your participation in this event directly impacts Oregon ASHRAE student chapters. All funds raised will go to benefit the Student Activities committee. Guests can also donate old ASHRAE manuals to be distributed to students. The event is open to all ASHRAE members\, come team with and support the next ASHRAE generation. \n\n\nTrivia: \nTopics will vary. Teams are limited to 6 people maximum\, and must include 1 student and 1 professional to be eligible for prizes! Registration for the event is required\, and attendees can form their own teams. \nSchedule: \n\n6:15 pm Doors open\n6:30 pm Registration  \n7:00 pm Announcements  and Trivia Teams form\n7:30 pm Trivia begins\n9:00 pm Trivia Awards\n10:00 pm doors close\n\nWe hope to see you there! Click here to register: https://events.r20.constantcontact.com/register/eventReg?oeidk=a07egv2l6a71e816f14&oseq=&c=&ch=
URL:https://www.orashrae.org/event/annual-student-trivia-night/
LOCATION:Lucky Lab Beer Hall\, 1945 NW Quimby St.\, Portland\, OR\, 97209\, United States
CATEGORIES:Student Events
END:VEVENT
BEGIN:VEVENT
DTSTART;VALUE=DATE:20191231
DTEND;VALUE=DATE:20200101
DTSTAMP:20260423T111830
CREATED:20191008T002256Z
LAST-MODIFIED:20191020T193743Z
UID:1836-1577750400-1577836799@www.orashrae.org
SUMMARY:Deadline for Student Scholarship Applications awarded by ASHRAE Oregon Chapter
DESCRIPTION:
URL:https://www.orashrae.org/event/deadline-for-student-scholarship-applications-awarded-by-ashrae-oregon-chapter/
LOCATION:OR
CATEGORIES:Student Events
END:VEVENT
BEGIN:VEVENT
DTSTART;VALUE=DATE:20191201
DTEND;VALUE=DATE:20191202
DTSTAMP:20260423T111830
CREATED:20191008T002012Z
LAST-MODIFIED:20191020T193757Z
UID:1829-1575158400-1575244799@www.orashrae.org
SUMMARY:Deadline for ASHRAE Society Student Scholarships
DESCRIPTION:
URL:https://www.orashrae.org/event/deadline-for-ashrae-society-student-scholarships/
LOCATION:OR
CATEGORIES:Student Events
END:VEVENT
BEGIN:VEVENT
DTSTART;VALUE=DATE:20191115
DTEND;VALUE=DATE:20191116
DTSTAMP:20260423T111830
CREATED:20191008T001811Z
LAST-MODIFIED:20191020T193818Z
UID:1824-1573776000-1573862399@www.orashrae.org
SUMMARY:PSU Student Building Tour
DESCRIPTION:TBD
URL:https://www.orashrae.org/event/psu-student-building-tour/
LOCATION:PSU Rec Center\, 1800 SW 6th Ave\, Portland\, OR\, 97201\, United States
CATEGORIES:Student Events
END:VEVENT
END:VCALENDAR