BEGIN:VCALENDAR
VERSION:2.0
PRODID:-//ASHRAE Oregon Chapter - ECPv6.15.18//NONSGML v1.0//EN
CALSCALE:GREGORIAN
METHOD:PUBLISH
X-ORIGINAL-URL:https://www.orashrae.org
X-WR-CALDESC:Events for ASHRAE Oregon Chapter
REFRESH-INTERVAL;VALUE=DURATION:PT1H
X-Robots-Tag:noindex
X-PUBLISHED-TTL:PT1H
BEGIN:VTIMEZONE
TZID:UTC
BEGIN:STANDARD
TZOFFSETFROM:+0000
TZOFFSETTO:+0000
TZNAME:UTC
DTSTART:20160101T000000
END:STANDARD
END:VTIMEZONE
BEGIN:VTIMEZONE
TZID:Pacific/Honolulu
BEGIN:STANDARD
TZOFFSETFROM:-1000
TZOFFSETTO:-1000
TZNAME:HST
DTSTART:20160101T000000
END:STANDARD
END:VTIMEZONE
BEGIN:VTIMEZONE
TZID:America/Los_Angeles
BEGIN:DAYLIGHT
TZOFFSETFROM:-0800
TZOFFSETTO:-0700
TZNAME:PDT
DTSTART:20160313T100000
END:DAYLIGHT
BEGIN:STANDARD
TZOFFSETFROM:-0700
TZOFFSETTO:-0800
TZNAME:PST
DTSTART:20161106T090000
END:STANDARD
BEGIN:DAYLIGHT
TZOFFSETFROM:-0800
TZOFFSETTO:-0700
TZNAME:PDT
DTSTART:20170312T100000
END:DAYLIGHT
BEGIN:STANDARD
TZOFFSETFROM:-0700
TZOFFSETTO:-0800
TZNAME:PST
DTSTART:20171105T090000
END:STANDARD
BEGIN:DAYLIGHT
TZOFFSETFROM:-0800
TZOFFSETTO:-0700
TZNAME:PDT
DTSTART:20180311T100000
END:DAYLIGHT
BEGIN:STANDARD
TZOFFSETFROM:-0700
TZOFFSETTO:-0800
TZNAME:PST
DTSTART:20181104T090000
END:STANDARD
END:VTIMEZONE
BEGIN:VEVENT
DTSTART;TZID=UTC:20180118T113000
DTEND;TZID=UTC:20180118T133000
DTSTAMP:20260425T104956
CREATED:20170614T225047Z
LAST-MODIFIED:20180104T185329Z
UID:920-1516275000-1516282200@www.orashrae.org
SUMMARY:January Chapter Meeting (Lunch)
DESCRIPTION:Please join the ASHRAE Oregon Chapter for our January chapter meeting! \nThis month’s meeting is going to be great.  We are extremely excited to welcome David Sellers\, Senior Engineer with Facility Dynamics Engineering\, who will be presenting on new and existing building commissioning.  If you haven’t seen David present on this subject\, you don’t want to miss this meeting.  He is entertaining\, incredibly knowledgeable\, and passionate about his work in the field of commissioning. \nPlease don’t wait to register for this event!  Turnout is expected to be high and you don’t want to miss this opportunity to hear Mr. Sellers present on the subject of commissioning. \nRegister Now!
URL:https://www.orashrae.org/event/january-chapter-meeting-lunch/
LOCATION:NW Natural\, 220 NW 2nd Avenue\, Floor 4 Hospitality Room\, Portland\, OR\, 97209
CATEGORIES:Monthly Meetings
END:VEVENT
BEGIN:VEVENT
DTSTART;TZID=UTC:20180110T160000
DTEND;TZID=UTC:20180110T180000
DTSTAMP:20260425T104956
CREATED:20170614T223553Z
LAST-MODIFIED:20180105T204602Z
UID:900-1515600000-1515607200@www.orashrae.org
SUMMARY:January Board Meeting
DESCRIPTION:Please join us at Rogue Eastside Pub & Pilot Brewery in the Barrel Room for the January board meeting.  All are invited to attend.
URL:https://www.orashrae.org/event/january-bog-meeting/
LOCATION:Eastside Rogue Brewery\, 928 SE 9th Avenue\, Portland\, 97214\, United States
CATEGORIES:Monthly Meetings
END:VEVENT
BEGIN:VEVENT
DTSTART;TZID=Pacific/Honolulu:20171214T173000
DTEND;TZID=Pacific/Honolulu:20171214T200000
DTSTAMP:20260425T104956
CREATED:20170614T224942Z
LAST-MODIFIED:20171205T154423Z
UID:918-1513272600-1513281600@www.orashrae.org
SUMMARY:December Chapter Meeting
DESCRIPTION:Please join us at the EcoTrust Building for a presentation Small Commercial Building Energy Saving Designs from Charlie Stephens of the Northwest Energy Efficiency Alliance. \nRegister Now! \nCharlie Stephens Biography  \nSee you at the December ASHRAE Chapter Meeting!
URL:https://www.orashrae.org/event/december-chapter-meeting/
LOCATION:EcoTrust Building\, 721 NW 9th Avenue\, Portland\, OR\, 97209\, United States
CATEGORIES:Monthly Meetings
END:VEVENT
BEGIN:VEVENT
DTSTART;TZID=UTC:20171213T160000
DTEND;TZID=UTC:20171213T180000
DTSTAMP:20260425T104956
CREATED:20170614T222858Z
LAST-MODIFIED:20171025T143828Z
UID:893-1513180800-1513188000@www.orashrae.org
SUMMARY:December Chapter Board Meeting
DESCRIPTION:Please join us at Rogue Distillery and Public House\, 1339 NW Flanders\, Portland\, Oregon 97209.  All are invited to attend.
URL:https://www.orashrae.org/event/december-bog-meeting/
LOCATION:Rouge Distillery and Public House\, 1339 NW Flanders Street\, Portland\, OR\, 97209\, United States
CATEGORIES:Monthly Meetings
END:VEVENT
BEGIN:VEVENT
DTSTART;TZID=America/Los_Angeles:20171212T173000
DTEND;TZID=America/Los_Angeles:20171212T203000
DTSTAMP:20260425T104956
CREATED:20171130T190020Z
LAST-MODIFIED:20171130T190020Z
UID:1118-1513099800-1513110600@www.orashrae.org
SUMMARY:Ugly Sweater Party\, Tuesday\, December 12
DESCRIPTION:It’s the Holiday Season!  The Portland Chapter of CSI\, the AIA Emerging Professional Committee\, ASHRAE\, Oregon Chapter of American Planning Association\, and American Society of Landscape Architects would like to invite all AEC Professionals to an Ugly Sweater Party at Cooper Hall\, especially the Emerging ones. \nWe have FIVE great associations co-hosting this fun and festive event for all Emerging Professionals from any of the building-related disciplines\, and we encourage the more experienced members of the companies to come out as well and get to know you new hires and emerging professionals better! \nOnly $10 to attend if you are an Emerging Professional with less than 10 years experience! Only $20 for AIA\, CSI\, OAPA\, ASLA\, and ASHRAE members with over 10 years experience! \nRegister Now!
URL:https://www.orashrae.org/event/ugly-sweater-party-tuesday-december-12/
LOCATION:Cooper Hall\, 404 SE 6th Street\, Portland\, OR\, 97214\, United States
CATEGORIES:Monthly Meetings
END:VEVENT
BEGIN:VEVENT
DTSTART;TZID=America/Los_Angeles:20171130T163000
DTEND;TZID=America/Los_Angeles:20171130T190000
DTSTAMP:20260425T104956
CREATED:20171117T222103Z
LAST-MODIFIED:20171117T222205Z
UID:1076-1512059400-1512068400@www.orashrae.org
SUMMARY:YEA Happy Hour\, Thursday\, November 30
DESCRIPTION:Please join other young ASHRAE members for a Happy Hour event at Rogue Distillery and Public House from 4:30 to 7:00 PM.  It’s free!  Meet your colleagues in the industry and support your local ASHRAE chapter. \nRegister Now! \nFeel free to contact Jessie Bryant at 971-371-9062 with any questions.
URL:https://www.orashrae.org/event/yea-happy-hour-thursday-november-30/
LOCATION:Rouge Distillery and Public House\, 1339 NW Flanders Street\, Portland\, OR\, 97209\, United States
CATEGORIES:Monthly Meetings
END:VEVENT
BEGIN:VEVENT
DTSTART;TZID=UTC:20171115T113000
DTEND;TZID=UTC:20171115T130000
DTSTAMP:20260425T104956
CREATED:20170614T224851Z
LAST-MODIFIED:20171101T172730Z
UID:916-1510745400-1510750800@www.orashrae.org
SUMMARY:November Chapter Meeting (Lunch)
DESCRIPTION:CO2 Refrigeration and Heat Pumping will be the topic of our November meeting.  Greg Scrivener\, founder and principal of Cold Dynamics will be presenting.  Greg is a ASHRAE Distinguished Lecturer so you don’t want to miss this interesting and educational presentation on this technology.  Also\, for those of you who can’t make our dinner meetings\, this is a lunch meeting so we hope to see some new faces!  Please join us if you can.  Note that PDH’s may apply! \nRegister Now!
URL:https://www.orashrae.org/event/november-chapter-meeting-lunch/
LOCATION:Bridgeport Brew Pub\, 1313 NW Marshall St\, Portland\, OR\, 97209\, United States
CATEGORIES:Monthly Meetings
END:VEVENT
BEGIN:VEVENT
DTSTART;TZID=UTC:20171108T160000
DTEND;TZID=UTC:20171108T180000
DTSTAMP:20260425T104956
CREATED:20170614T222753Z
LAST-MODIFIED:20171108T173132Z
UID:891-1510156800-1510164000@www.orashrae.org
SUMMARY:November Board Meeting
DESCRIPTION:Please join us at Rogue Eastside Pub & Pilot Brewery\, 928 SE 9th Avenue\, Portland\, Oregon 97214.  All are invited to attend.
URL:https://www.orashrae.org/event/november-bog-meeting/
LOCATION:Eastside Rogue Brewery\, 928 SE 9th Avenue\, Portland\, 97214\, United States
CATEGORIES:Monthly Meetings
END:VEVENT
BEGIN:VEVENT
DTSTART;TZID=Pacific/Honolulu:20171019T173000
DTEND;TZID=Pacific/Honolulu:20171019T200000
DTSTAMP:20260425T104956
CREATED:20170614T224756Z
LAST-MODIFIED:20171006T213724Z
UID:914-1508434200-1508443200@www.orashrae.org
SUMMARY:October Chapter Meeting (Dinner)
DESCRIPTION:Please join us for a presentation by Ron Jarnagin at the ECO Trust Building for a dinner meeting.  Ron will be presenting on the topic of Advanced Energy Design.  Ron currently works with Pacific Northwest National Laboratory\, and chaired ASHRAE’s Standard 90.1 committee for 4 years. \nRegister Now! \nSee you at the October Chapter Dinner Meeting!
URL:https://www.orashrae.org/event/october-chapter-meeting/
LOCATION:EcoTrust Building\, 721 NW 9th Avenue\, Portland\, OR\, 97209\, United States
CATEGORIES:Monthly Meetings
END:VEVENT
BEGIN:VEVENT
DTSTART;TZID=Pacific/Honolulu:20171011T160000
DTEND;TZID=Pacific/Honolulu:20171011T180000
DTSTAMP:20260425T104956
CREATED:20170614T222632Z
LAST-MODIFIED:20171006T025749Z
UID:889-1507737600-1507744800@www.orashrae.org
SUMMARY:October Chapter Board Meeting
DESCRIPTION:Meeting is held at Rouge Westside\, 1339 NW Fanders Street\, Portland\, Oregon 97209.  All are invited to attend.
URL:https://www.orashrae.org/event/october-bog-meeting/
LOCATION:Rouge Distillery and Public House\, 1339 NW Flanders Street\, Portland\, OR\, 97209\, United States
CATEGORIES:Monthly Meetings
END:VEVENT
BEGIN:VEVENT
DTSTART;TZID=America/Los_Angeles:20170921T173000
DTEND;TZID=America/Los_Angeles:20170921T200000
DTSTAMP:20260425T104956
CREATED:20170614T224650Z
LAST-MODIFIED:20170922T032251Z
UID:912-1506015000-1506024000@www.orashrae.org
SUMMARY:September Chapter Meeting (Dinner)
DESCRIPTION:Please join us at Plaza Del Toro for a presentation from Bruce Dobbs on marijuana grow facilities. \nRegister Here!
URL:https://www.orashrae.org/event/september-chapter-meeting/
LOCATION:Plaza Del Toro\, 105 SE Taylor Street\, Portland\, OR\, 97214\, United States
CATEGORIES:Monthly Meetings
END:VEVENT
BEGIN:VEVENT
DTSTART;TZID=UTC:20170913T160000
DTEND;TZID=UTC:20170913T180000
DTSTAMP:20260425T104956
CREATED:20170614T222527Z
LAST-MODIFIED:20170908T044034Z
UID:887-1505318400-1505325600@www.orashrae.org
SUMMARY:September Chapter Board Meeting
DESCRIPTION:Location is Eastside Rogue Brewery at 4 to 6 PM.  All are invited to attend.
URL:https://www.orashrae.org/event/september-bog-meeting/
LOCATION:Eastside Rogue Brewery\, 928 SE 9th Avenue\, Portland\, 97214\, United States
CATEGORIES:Monthly Meetings
END:VEVENT
BEGIN:VEVENT
DTSTART;TZID=UTC:20170809T160000
DTEND;TZID=UTC:20170809T180000
DTSTAMP:20260425T104956
CREATED:20170614T222346Z
LAST-MODIFIED:20170726T043958Z
UID:885-1502294400-1502301600@www.orashrae.org
SUMMARY:August BOG Meeting
DESCRIPTION:All are invited to attend.
URL:https://www.orashrae.org/event/august-bog-meeting/
LOCATION:Fatheads Brewing\, 131 NW 13th Avenue\, Portland\, OR\, 97209\, United States
CATEGORIES:Monthly Meetings
END:VEVENT
BEGIN:VEVENT
DTSTART;TZID=UTC:20170714T070000
DTEND;TZID=UTC:20170714T130000
DTSTAMP:20260425T104956
CREATED:20170106T073416Z
LAST-MODIFIED:20170628T034311Z
UID:633-1500015600-1500037200@www.orashrae.org
SUMMARY:ASHRAE Annual Golf Tournament
DESCRIPTION:The ASHRAE Oregon Annual Golf Tournament is the Chapter’s major fundraising event of the year\, and we hope that this year will be just as successful as years past. Our goal is to raise $20\,000 or more for research this year\, and your individual participation in the tournament and generous sponsorship contributions are greatly appreciated. All teams\, single players and skill levels welcome.  This is a fun\, networking event. \nWe have a fun-filled and exciting day planned with commemorative team photos\, hole contests for men and women\, raffle prizes valued at over $1\,500\, Bloody Mary bar\, and the opportunity to win to an Aurelius hybrid\, wedge\, or driver club! Flag prizes and winnings will be awarded to the top finishers. Join us on July 14th for 18 holes of fresh air\, fantastic course\, and fun in the sun. \nCOST:\nFoursome – $600 – SOLD OUT\nSingle Player – $150 (we will pair you with others in a foursome) – SOLD OUT\nIncludes  green fee\, golf cart\, driving range\, golf balls\, continental breakfast\, BBQ lunch and 2 drink tickets. \nEXTRAS:\nMulligans (one per player please) – $10/ea\nRaffle tickets – $5/ea or 5 for $20\n(Must be present to win raffle prizes) \nSCHEDULE OF EVENTS:\n6:30 AM – Registration and continental breakfast opens\n8:00 AM – Shotgun start\n1:00 PM approx. – BBQ lunch & award ceremony to follow \nSPONSORSHIP OPPORTUNITIES\nPlease consider becoming a part of the event as a sponsor. To view opportunities and register\, click HERE > \nTOURNAMENT DETAILS\nFor more information about parking\, timeline\, etc.\, click HERE >
URL:https://www.orashrae.org/event/2017-annual-golf-tournament/
LOCATION:Eastmoreland Golf Course\, 2425 SE Bybee Blvd\, Portland\, OR\, 97202
CATEGORIES:Golf Tournament,Monthly Meetings
END:VEVENT
BEGIN:VEVENT
DTSTART;TZID=UTC:20170712T160000
DTEND;TZID=UTC:20170712T180000
DTSTAMP:20260425T104956
CREATED:20170614T221852Z
LAST-MODIFIED:20170712T223149Z
UID:881-1499875200-1499882400@www.orashrae.org
SUMMARY:July BOG Meeting
DESCRIPTION:Eastside Rogue Brewery in the Barrel Room.  All are invited to attend.
URL:https://www.orashrae.org/event/july-bog-meeting/
LOCATION:Eastside Rogue Brewery\, 928 SE 9th Avenue\, Portland\, 97214\, United States
CATEGORIES:Monthly Meetings
END:VEVENT
END:VCALENDAR