BEGIN:VCALENDAR
VERSION:2.0
PRODID:-//ASHRAE Oregon Chapter - ECPv6.15.18//NONSGML v1.0//EN
CALSCALE:GREGORIAN
METHOD:PUBLISH
X-ORIGINAL-URL:https://www.orashrae.org
X-WR-CALDESC:Events for ASHRAE Oregon Chapter
REFRESH-INTERVAL;VALUE=DURATION:PT1H
X-Robots-Tag:noindex
X-PUBLISHED-TTL:PT1H
BEGIN:VTIMEZONE
TZID:America/Los_Angeles
BEGIN:DAYLIGHT
TZOFFSETFROM:-0800
TZOFFSETTO:-0700
TZNAME:PDT
DTSTART:20190310T100000
END:DAYLIGHT
BEGIN:STANDARD
TZOFFSETFROM:-0700
TZOFFSETTO:-0800
TZNAME:PST
DTSTART:20191103T090000
END:STANDARD
BEGIN:DAYLIGHT
TZOFFSETFROM:-0800
TZOFFSETTO:-0700
TZNAME:PDT
DTSTART:20200308T100000
END:DAYLIGHT
BEGIN:STANDARD
TZOFFSETFROM:-0700
TZOFFSETTO:-0800
TZNAME:PST
DTSTART:20201101T090000
END:STANDARD
BEGIN:DAYLIGHT
TZOFFSETFROM:-0800
TZOFFSETTO:-0700
TZNAME:PDT
DTSTART:20210314T100000
END:DAYLIGHT
BEGIN:STANDARD
TZOFFSETFROM:-0700
TZOFFSETTO:-0800
TZNAME:PST
DTSTART:20211107T090000
END:STANDARD
BEGIN:DAYLIGHT
TZOFFSETFROM:-0800
TZOFFSETTO:-0700
TZNAME:PDT
DTSTART:20220313T100000
END:DAYLIGHT
BEGIN:STANDARD
TZOFFSETFROM:-0700
TZOFFSETTO:-0800
TZNAME:PST
DTSTART:20221106T090000
END:STANDARD
BEGIN:DAYLIGHT
TZOFFSETFROM:-0800
TZOFFSETTO:-0700
TZNAME:PDT
DTSTART:20230312T100000
END:DAYLIGHT
BEGIN:STANDARD
TZOFFSETFROM:-0700
TZOFFSETTO:-0800
TZNAME:PST
DTSTART:20231105T090000
END:STANDARD
BEGIN:DAYLIGHT
TZOFFSETFROM:-0800
TZOFFSETTO:-0700
TZNAME:PDT
DTSTART:20240310T100000
END:DAYLIGHT
BEGIN:STANDARD
TZOFFSETFROM:-0700
TZOFFSETTO:-0800
TZNAME:PST
DTSTART:20241103T090000
END:STANDARD
BEGIN:DAYLIGHT
TZOFFSETFROM:-0800
TZOFFSETTO:-0700
TZNAME:PDT
DTSTART:20250309T100000
END:DAYLIGHT
BEGIN:STANDARD
TZOFFSETFROM:-0700
TZOFFSETTO:-0800
TZNAME:PST
DTSTART:20251102T090000
END:STANDARD
BEGIN:DAYLIGHT
TZOFFSETFROM:-0800
TZOFFSETTO:-0700
TZNAME:PDT
DTSTART:20260308T100000
END:DAYLIGHT
BEGIN:STANDARD
TZOFFSETFROM:-0700
TZOFFSETTO:-0800
TZNAME:PST
DTSTART:20261101T090000
END:STANDARD
BEGIN:DAYLIGHT
TZOFFSETFROM:-0800
TZOFFSETTO:-0700
TZNAME:PDT
DTSTART:20270314T100000
END:DAYLIGHT
BEGIN:STANDARD
TZOFFSETFROM:-0700
TZOFFSETTO:-0800
TZNAME:PST
DTSTART:20271107T090000
END:STANDARD
END:VTIMEZONE
BEGIN:VEVENT
DTSTART;TZID=America/Los_Angeles:20260210T170000
DTEND;TZID=America/Los_Angeles:20260210T190000
DTSTAMP:20260423T124748
CREATED:20260120T170829Z
LAST-MODIFIED:20260126T175455Z
UID:3079-1770742800-1770750000@www.orashrae.org
SUMMARY:ASHRAE x Sustainable Building Monthly - Sustainable Systems: Finding Your Solution
DESCRIPTION:Sustainable Systems: Finding your Solution\n\n\n\nHigh-performance air systems demand modern design approaches with leading-edge products and technology in order to optimize comfort\, reduce energy consumption and ensure the long-term sustainability of a building. The presentation will discuss high performance solutions that can prioritize thermal comfort in nearly any application and provide the option for smaller/individual zones of temperature control. The energy efficient systems presented have been proven to provide up to 67% energy savings when compared to other more traditional HVAC systems. For long-term sustainability\, these solutions create future resilient spaces that ensure no comfort zones are split when office walls are put up or moved. The modular concept and flexibility provided by these systems guarantees that any changes in the floor plan will not trigger expensive and disruptive changes. \nPresenter: Chris Burroughs \nChris Burroughs is an experienced Product Manager with more than ten years of expertise in developing innovative sustainable HVAC solutions. At Price Industries\, Chris oversees the advancement of systems such as Chilled Beams\, Underfloor Air Distribution (UFAD)\, Displacement Ventilation\, and VAV Diffusers—all aimed at improving energy efficiency and indoor air quality for commercial and institutional environments. Throughout his career\, Chris has led initiatives contributing to LEED-certified projects and influencing industry guidelines (ASHRAE) related to testing and participated in many research projects. He has broadened product portfolios by integrating technical proficiency with strategic insight to address changing environmental and performance requirements.  Dedicated to sustainability\, Chris advocates for practices that promote innovation and operational efficiency throughout the built environment. \nMeeting Beverages Sponsored by ACI Mechanical & HVAC Sales \n\nAgenda:\n5:00PM – 5:30PM – Networking\, Food\, & Drinks \n5:30PM – 6:30PM – Presentation & Q&A \n6:30PM – 7:00PM – More Networking\, Food & Drinks
URL:https://www.orashrae.org/event/ashrae-x-sustainable-building-monthly-sustainable-systems-finding-your-solution/
LOCATION:PAE Living Building\, 151 SW 1st Ave\, Portland\, OR\, 97204
CATEGORIES:Education & CEUs,Monthly Meetings
END:VEVENT
BEGIN:VEVENT
DTSTART;TZID=America/Los_Angeles:20260122T170000
DTEND;TZID=America/Los_Angeles:20260122T210000
DTSTAMP:20260423T124748
CREATED:20250923T191415Z
LAST-MODIFIED:20260120T170046Z
UID:2992-1769101200-1769115600@www.orashrae.org
SUMMARY:ASPE x ASHRAE Oregon Technical Meeting - Domestic Hot Water Heat Pumps
DESCRIPTION:Join us as for a joint event with our ASPE Freinds to learn about Heat Pumps – topic includes: \n1. Plumbing Design of CHPWH Systems \n2. Sizing for storage and real world usage patterns \n3. High Temperature Boiler Replacement in Space Heating 4. Challenges & Solutions of Retrofit \n5. Tax Credits and Funding Strategies for High Efficiency Water Heating \n6. Practical Active Heat Recovery with Examples Meeting \n  \nAgenda:  \n5:00PM – Registration Opens \n5:30 PM – Dinner and drinks are served \n6:00 PM – Presentation Starts \n7:00 – 9:00 PM – Mingle and Wrap up
URL:https://www.orashrae.org/event/ashrae-oregon-technical-meeting/
LOCATION:Baerlic’s Super Sceret Beer Club Event Space\, 2235 SE 11th Ave\, Portland\, OR\, 97214\, United States
CATEGORIES:Education & CEUs,Monthly Meetings
END:VEVENT
BEGIN:VEVENT
DTSTART;TZID=America/Los_Angeles:20251113T113000
DTEND;TZID=America/Los_Angeles:20251113T130000
DTSTAMP:20260423T124748
CREATED:20250923T191050Z
LAST-MODIFIED:20250923T191050Z
UID:2984-1763033400-1763038800@www.orashrae.org
SUMMARY:ASHRAE Cascades Section Technical Meeting: “Radiant Heating and Cooling System Design\,” presented by Devin Abellon\, PacWest Sales.
DESCRIPTION:
URL:https://www.orashrae.org/event/ashrae-cascades-section-technical-meeting-radiant-heating-and-cooling-system-design-presented-by-devin-abellon-pacwest-sales/
LOCATION:Waypoint Hotel\, 1415 NE 3rd St\, Bebd\, 97701\, United States
CATEGORIES:Education & CEUs
END:VEVENT
BEGIN:VEVENT
DTSTART;TZID=America/Los_Angeles:20210513T140000
DTEND;TZID=America/Los_Angeles:20210513T150000
DTSTAMP:20260423T124748
CREATED:20210316T211837Z
LAST-MODIFIED:20210510T163154Z
UID:2190-1620914400-1620918000@www.orashrae.org
SUMMARY:Webinar - HEPA Filtration for Biopharma/Life Science Lab Exhaust Systems
DESCRIPTION:Have you experienced on-site HEPA failures upon installation and certification? Learn about the characteristics of HEPA filter media and identify the risks associated with each type. Become aware of performance differences between different medias\, construction\, and applications. Consider new media technology with unique characteristics suitable for pharmaceutical applications. \nPresented by Lisa Warner\, Life Science Segment Manager\, Camfil USA \nLisa is a technical business development\, sales & market strategist with over 30 years’ experience in the air filtration and advanced materials industries\, with a focus on HEPA filter components\, construction and installation; clean room energy optimization; factory and field testing issues; ASHRAE filters and the role of media choice\, configuration and construction in HVAC filter performance and life cycle cost analysis. \nClick here to register
URL:https://www.orashrae.org/event/webinar-hepa-filtration-for-biopharma-life-science-lab-exhaust-systems/
LOCATION:OR
CATEGORIES:Education & CEUs
END:VEVENT
BEGIN:VEVENT
DTSTART;TZID=America/Los_Angeles:20200311T113000
DTEND;TZID=America/Los_Angeles:20200311T133000
DTSTAMP:20260423T124748
CREATED:20200309T202051Z
LAST-MODIFIED:20200309T234627Z
UID:2006-1583926200-1583933400@www.orashrae.org
SUMMARY:Oregon's Energy Code (ASHRAE 90.1) - Free Training!
DESCRIPTION:Join us for an exciting free training on the mechanical sections of the new Oregon Energy Code (ASHRAE 90.1)\, in partnership with the Northwest Energy Efficiency Alliance. \nThis training is perfect for engineers and professionals on the design and sales side of the industry who need to be proficient in compliance with the energy code.  The training will cover the mechanical specific sections (further training on lighting\, metering\, and day lighting be may be offered at a later date). \nJoin us for this unique opportunity! Major thanks to our partner NEEA! \nLink to Register: https://events.r20.constantcontact.com/register/eventReg?oeidk=a07egxnosgx2c30716d&oseq=&c=&ch=
URL:https://www.orashrae.org/event/oregons-energy-code-ashrae-90-1-free-training/
LOCATION:Mercy Corps NW\, 43 SW Naito Pkwy\, Portland\, OR\, 97204\, United States
CATEGORIES:Education & CEUs,Training
END:VEVENT
END:VCALENDAR