BEGIN:VCALENDAR
VERSION:2.0
PRODID:-//ASHRAE Oregon Chapter - ECPv6.15.18//NONSGML v1.0//EN
CALSCALE:GREGORIAN
METHOD:PUBLISH
X-ORIGINAL-URL:https://www.orashrae.org
X-WR-CALDESC:Events for ASHRAE Oregon Chapter
REFRESH-INTERVAL;VALUE=DURATION:PT1H
X-Robots-Tag:noindex
X-PUBLISHED-TTL:PT1H
BEGIN:VTIMEZONE
TZID:America/Los_Angeles
BEGIN:DAYLIGHT
TZOFFSETFROM:-0800
TZOFFSETTO:-0700
TZNAME:PDT
DTSTART:20240310T100000
END:DAYLIGHT
BEGIN:STANDARD
TZOFFSETFROM:-0700
TZOFFSETTO:-0800
TZNAME:PST
DTSTART:20241103T090000
END:STANDARD
BEGIN:DAYLIGHT
TZOFFSETFROM:-0800
TZOFFSETTO:-0700
TZNAME:PDT
DTSTART:20250309T100000
END:DAYLIGHT
BEGIN:STANDARD
TZOFFSETFROM:-0700
TZOFFSETTO:-0800
TZNAME:PST
DTSTART:20251102T090000
END:STANDARD
BEGIN:DAYLIGHT
TZOFFSETFROM:-0800
TZOFFSETTO:-0700
TZNAME:PDT
DTSTART:20260308T100000
END:DAYLIGHT
BEGIN:STANDARD
TZOFFSETFROM:-0700
TZOFFSETTO:-0800
TZNAME:PST
DTSTART:20261101T090000
END:STANDARD
END:VTIMEZONE
BEGIN:VEVENT
DTSTART;TZID=America/Los_Angeles:20250918T163000
DTEND;TZID=America/Los_Angeles:20250918T203000
DTSTAMP:20260423T204105
CREATED:20250911T031616Z
LAST-MODIFIED:20250923T173253Z
UID:2967-1758213000-1758227400@www.orashrae.org
SUMMARY:September Technical Chapter Meeting - The (un)Ethical Engineer: A study of Principle & Practice
DESCRIPTION:The integrity of the HVAC industry is dependent on sound technical design\, reliable products\, skilled construction practice and consistent maintenance and operation. But another critical element that is sometimes overlooked is professional ethics. As members within the HVAC industry engineers\, contractors\, architects\, manufacturers\, vendors and building owners are expected to exhibit the highest standard of honesty and integrity to safeguard the confidence that the public has in us.  In this very competitive climate\, however\, it is sometimes tempting to “bend the rules” to some degree in order to gain an advantage over competition or to simply get the job done on time. But how much is too much? Is there a clearly defined line between ethical practice and “just the way things are done?” \n“The (un)Ethical Engineer” is an interactive\, multimedia\, dramatic presentation that explores these issues through the eyes of a well-intentioned engineer.
URL:https://www.orashrae.org/event/october-technical-chapter-meeting-the-unethical-engineer-a-study-of-principle-practice/
LOCATION:Stormbreaker Brewing\, 832 N Beech St\, Portland\, 97227\, United States
CATEGORIES:Monthly Meetings
END:VEVENT
END:VCALENDAR