BEGIN:VCALENDAR
VERSION:2.0
PRODID:-//ASHRAE Oregon Chapter - ECPv6.15.18//NONSGML v1.0//EN
CALSCALE:GREGORIAN
METHOD:PUBLISH
X-WR-CALNAME:ASHRAE Oregon Chapter
X-ORIGINAL-URL:https://www.orashrae.org
X-WR-CALDESC:Events for ASHRAE Oregon Chapter
REFRESH-INTERVAL;VALUE=DURATION:PT1H
X-Robots-Tag:noindex
X-PUBLISHED-TTL:PT1H
BEGIN:VTIMEZONE
TZID:America/Los_Angeles
BEGIN:DAYLIGHT
TZOFFSETFROM:-0800
TZOFFSETTO:-0700
TZNAME:PDT
DTSTART:20240310T100000
END:DAYLIGHT
BEGIN:STANDARD
TZOFFSETFROM:-0700
TZOFFSETTO:-0800
TZNAME:PST
DTSTART:20241103T090000
END:STANDARD
BEGIN:DAYLIGHT
TZOFFSETFROM:-0800
TZOFFSETTO:-0700
TZNAME:PDT
DTSTART:20250309T100000
END:DAYLIGHT
BEGIN:STANDARD
TZOFFSETFROM:-0700
TZOFFSETTO:-0800
TZNAME:PST
DTSTART:20251102T090000
END:STANDARD
BEGIN:DAYLIGHT
TZOFFSETFROM:-0800
TZOFFSETTO:-0700
TZNAME:PDT
DTSTART:20260308T100000
END:DAYLIGHT
BEGIN:STANDARD
TZOFFSETFROM:-0700
TZOFFSETTO:-0800
TZNAME:PST
DTSTART:20261101T090000
END:STANDARD
END:VTIMEZONE
BEGIN:VEVENT
DTSTART;TZID=America/Los_Angeles:20250220T170000
DTEND;TZID=America/Los_Angeles:20250220T193000
DTSTAMP:20260424T174118
CREATED:20241014T192546Z
LAST-MODIFIED:20250203T175202Z
UID:2721-1740070800-1740079800@www.orashrae.org
SUMMARY:February Technical Chapter Meeting - Electrification
DESCRIPTION:Join the ASHRAE Oregon Chapter as we welcome Rand Conger\, PE\, who will walk us through the upcoming trends and emerging technologies of all-electric building design in the HVAC industry. \nNetwork with fellow industry professionals and gain valuable knowledge to stay ahead in your projects.
URL:https://www.orashrae.org/event/save-the-date-february-technical-chapter-meeting/
LOCATION:Baerlic’s Super Sceret Beer Club Event Space\, 2235 SE 11th Ave\, Portland\, OR\, 97214\, United States
CATEGORIES:Monthly Meetings
ATTACH;FMTTYPE=image/png:https://www.orashrae.org/wp-content/uploads/Feb-20th-Chapter-Meeting.png
END:VEVENT
END:VCALENDAR