BEGIN:VCALENDAR
VERSION:2.0
PRODID:-//ASHRAE Oregon Chapter - ECPv6.15.18//NONSGML v1.0//EN
CALSCALE:GREGORIAN
METHOD:PUBLISH
X-WR-CALNAME:ASHRAE Oregon Chapter
X-ORIGINAL-URL:https://www.orashrae.org
X-WR-CALDESC:Events for ASHRAE Oregon Chapter
REFRESH-INTERVAL;VALUE=DURATION:PT1H
X-Robots-Tag:noindex
X-PUBLISHED-TTL:PT1H
BEGIN:VTIMEZONE
TZID:America/Los_Angeles
BEGIN:DAYLIGHT
TZOFFSETFROM:-0800
TZOFFSETTO:-0700
TZNAME:PDT
DTSTART:20230312T100000
END:DAYLIGHT
BEGIN:STANDARD
TZOFFSETFROM:-0700
TZOFFSETTO:-0800
TZNAME:PST
DTSTART:20231105T090000
END:STANDARD
BEGIN:DAYLIGHT
TZOFFSETFROM:-0800
TZOFFSETTO:-0700
TZNAME:PDT
DTSTART:20240310T100000
END:DAYLIGHT
BEGIN:STANDARD
TZOFFSETFROM:-0700
TZOFFSETTO:-0800
TZNAME:PST
DTSTART:20241103T090000
END:STANDARD
BEGIN:DAYLIGHT
TZOFFSETFROM:-0800
TZOFFSETTO:-0700
TZNAME:PDT
DTSTART:20250309T100000
END:DAYLIGHT
BEGIN:STANDARD
TZOFFSETFROM:-0700
TZOFFSETTO:-0800
TZNAME:PST
DTSTART:20251102T090000
END:STANDARD
END:VTIMEZONE
BEGIN:VEVENT
DTSTART;TZID=America/Los_Angeles:20241017T163000
DTEND;TZID=America/Los_Angeles:20241017T190000
DTSTAMP:20260425T040216
CREATED:20241002T181728Z
LAST-MODIFIED:20241002T181818Z
UID:2708-1729182600-1729191600@www.orashrae.org
SUMMARY:October Technical Meeting - Hydronic Balancing
DESCRIPTION:Please join us on October 17th as Kirk Phipps presents a session on why hydronic balancing is important\, with an overview of balancing methods and how they relate to both the TAB process as well as operating efficiencies. Being mindful of how balancing directly impacts start up\, long term pump/unitary performance\, and occupant comfort is crucial to total system success. \n\n\n\n\n\n\n\n\n\n\n\n\n\n\n\n\nMeet the Speaker\n\n\n\n\n\n\nKirk Phipps \nDirector of Sales for Hays Fluid Controls\n\n\n\n\n\n\nStarting with Hays Fluid controls in 2009\, Kirk Phipps has now spent over a dozen years dedicating his time to ensuring projects of all types have proper distribution of flow. Having been in a variety of roles\, he is currently the Director of Sales managing a team of regional managers and providing consultation within the market segments of Commercial HVAC\, Plumbing\, Industrial Process\, and onboard systems for both the US Navy and private marine vessels.
URL:https://www.orashrae.org/event/october-technical-meeting-hydronic-balancing/
LOCATION:Migration Brewing – Glisan\, 2828 NE Glisan St\, Portland\, OR\, 97232\, United States
CATEGORIES:Monthly Meetings
END:VEVENT
END:VCALENDAR