BEGIN:VCALENDAR
VERSION:2.0
PRODID:-//ASHRAE Oregon Chapter - ECPv6.15.18//NONSGML v1.0//EN
CALSCALE:GREGORIAN
METHOD:PUBLISH
X-ORIGINAL-URL:https://www.orashrae.org
X-WR-CALDESC:Events for ASHRAE Oregon Chapter
REFRESH-INTERVAL;VALUE=DURATION:PT1H
X-Robots-Tag:noindex
X-PUBLISHED-TTL:PT1H
BEGIN:VTIMEZONE
TZID:America/Los_Angeles
BEGIN:DAYLIGHT
TZOFFSETFROM:-0800
TZOFFSETTO:-0700
TZNAME:PDT
DTSTART:20230312T100000
END:DAYLIGHT
BEGIN:STANDARD
TZOFFSETFROM:-0700
TZOFFSETTO:-0800
TZNAME:PST
DTSTART:20231105T090000
END:STANDARD
BEGIN:DAYLIGHT
TZOFFSETFROM:-0800
TZOFFSETTO:-0700
TZNAME:PDT
DTSTART:20240310T100000
END:DAYLIGHT
BEGIN:STANDARD
TZOFFSETFROM:-0700
TZOFFSETTO:-0800
TZNAME:PST
DTSTART:20241103T090000
END:STANDARD
BEGIN:DAYLIGHT
TZOFFSETFROM:-0800
TZOFFSETTO:-0700
TZNAME:PDT
DTSTART:20250309T100000
END:DAYLIGHT
BEGIN:STANDARD
TZOFFSETFROM:-0700
TZOFFSETTO:-0800
TZNAME:PST
DTSTART:20251102T090000
END:STANDARD
END:VTIMEZONE
BEGIN:VEVENT
DTSTART;TZID=America/Los_Angeles:20240718T170000
DTEND;TZID=America/Los_Angeles:20240718T190000
DTSTAMP:20260425T122842
CREATED:20240718T225108Z
LAST-MODIFIED:20240718T225846Z
UID:2694-1721322000-1721329200@www.orashrae.org
SUMMARY:ASHRAE Get to Know Your Board
DESCRIPTION:Hey there\, it’s been a while! We’re heading into the new ASHRAE year\, and we want to hear from you.\nPlease join us for our casual happy hour get together. \nCome meet the current ASHRAE Oregon Board\, learn about open positions in ASHRAE\, and how to get involved. \nFood and drinks provided. Free Admission! \nHope to see you there\,\nYour Membership Promotion Team
URL:https://www.orashrae.org/event/ashrae-get-to-know-your-board/
LOCATION:PAE Living Building\, 151 SW 1st Ave\, Portland\, OR\, 97204
CATEGORIES:Monthly Meetings
ATTACH;FMTTYPE=image/png:https://www.orashrae.org/wp-content/uploads/Welcome-ASHRAE.png
END:VEVENT
END:VCALENDAR